BEGIN:VCALENDAR
VERSION:2.0
PRODID:-//Division of Forestry and Wildlife - ECPv6.15.20//NONSGML v1.0//EN
CALSCALE:GREGORIAN
METHOD:PUBLISH
X-WR-CALNAME:Division of Forestry and Wildlife
X-ORIGINAL-URL:https://dlnr.hawaii.gov/dofaw
X-WR-CALDESC:Events for Division of Forestry and Wildlife
REFRESH-INTERVAL;VALUE=DURATION:PT1H
X-Robots-Tag:noindex
X-PUBLISHED-TTL:PT1H
BEGIN:VTIMEZONE
TZID:Pacific/Honolulu
BEGIN:STANDARD
TZOFFSETFROM:-1000
TZOFFSETTO:-1000
TZNAME:HST
DTSTART:20240101T000000
END:STANDARD
END:VTIMEZONE
BEGIN:VEVENT
DTSTART;TZID=Pacific/Honolulu:20250628T080000
DTEND;TZID=Pacific/Honolulu:20250628T120000
DTSTAMP:20260420T140805
CREATED:20250130T193319Z
LAST-MODIFIED:20250130T193319Z
UID:10000461-1751097600-1751112000@dlnr.hawaii.gov
SUMMARY:Uluniu Project: UH West Oʻahu & Kaulunani Community Coconut Program
DESCRIPTION:The event below is from a partner in the Year of Our Community Forests: \nNiU NOW! is a community cultural agroforestry movement emerging to affirm the importance of niu\, coconut and uluniu\, coconut groves. At the center of our movement is the re-establishment of a loving relationship with niu and the ancient knowledge practices of Hawai‘i’s coconut heritage as a “tree of life\,” a complete food system. \n\n\n\n\n\n\n\n\nLed by Dr. Manulani Aluli Meyer and Indrajit Gunasekara\, NiU NOW! has three priorities to re-establish the coconut back into ka pae ʻāina o Hawaiʻi\, into the Hawaiian islands: \n\n\nHawaiian cultural revitalization \n\n\nEcological conservation \n\n\nFood security/healing \n\n\nWe begin first with land-based practices that honor our coconut heritage. This movement was founded in our backyards and in the hearts and cultural practices of community. Our growth has continued more five years and has amplified with community support to reinvision and reconstruct a living economy. NiU NOW! is not large-scale uluniu for economic gain\, but rather groves for a healthy society and the well-being of people.
URL:https://dlnr.hawaii.gov/dofaw/event/uluniu-project-uh-west-o%ca%bbahu-kaulunani-community-coconut-program/2025-06-28/
CATEGORIES:Volunteer Events
ORGANIZER;CN="Community Coconut Program":MAILTO:indrajit@hawaii.edu
END:VEVENT
BEGIN:VEVENT
DTSTART;TZID=Pacific/Honolulu:20250618T080000
DTEND;TZID=Pacific/Honolulu:20250618T120000
DTSTAMP:20260420T140805
CREATED:20250130T201537Z
LAST-MODIFIED:20250130T201537Z
UID:10001055-1750233600-1750248000@dlnr.hawaii.gov
SUMMARY:Kūkaniloko Workday: Puʻuhonoa Society
DESCRIPTION:This event is from a partner in the Year of Our Community Forests. \n\n\n\nNiU NOW! is a community cultural agroforestry movement emerging to affirm the importance of niu\, coconut and uluniu\, coconut groves. At the center of our movement is the re-establishment of a loving relationship with niu and the ancient knowledge practices of Hawai‘i’s coconut heritage as a “tree of life\,” a complete food system.\n\n\n\n\n\n\n\n\nLed by Dr. Manulani Aluli Meyer and Indrajit Gunasekara\, NiU NOW! has three priorities to re-establish the coconut back into ka pae ʻāina o Hawaiʻi\, into the Hawaiian islands: \n\n\nHawaiian cultural revitalization \n\n\nEcological conservation \n\n\nFood security/healing \n\n\nWe begin first with land-based practices that honor our coconut heritage. This movement was founded in our backyards and in the hearts and cultural practices of community. Our growth has continued more five years and has amplified with community support to reinvision and reconstruct a living economy. NiU NOW! is not large-scale uluniu for economic gain\, but rather groves for a healthy society and the well-being of people.
URL:https://dlnr.hawaii.gov/dofaw/event/kukaniloko-workday-pu%ca%bbuhonoa-society/2025-06-18/
CATEGORIES:Volunteer Events
ORGANIZER;CN="Community Coconut Program":MAILTO:indrajit@hawaii.edu
END:VEVENT
BEGIN:VEVENT
DTSTART;TZID=Pacific/Honolulu:20250604T080000
DTEND;TZID=Pacific/Honolulu:20250604T120000
DTSTAMP:20260420T140805
CREATED:20250130T201537Z
LAST-MODIFIED:20250130T201537Z
UID:10001054-1749024000-1749038400@dlnr.hawaii.gov
SUMMARY:Kūkaniloko Workday: Puʻuhonoa Society
DESCRIPTION:This event is from a partner in the Year of Our Community Forests. \n\n\n\nNiU NOW! is a community cultural agroforestry movement emerging to affirm the importance of niu\, coconut and uluniu\, coconut groves. At the center of our movement is the re-establishment of a loving relationship with niu and the ancient knowledge practices of Hawai‘i’s coconut heritage as a “tree of life\,” a complete food system.\n\n\n\n\n\n\n\n\nLed by Dr. Manulani Aluli Meyer and Indrajit Gunasekara\, NiU NOW! has three priorities to re-establish the coconut back into ka pae ʻāina o Hawaiʻi\, into the Hawaiian islands: \n\n\nHawaiian cultural revitalization \n\n\nEcological conservation \n\n\nFood security/healing \n\n\nWe begin first with land-based practices that honor our coconut heritage. This movement was founded in our backyards and in the hearts and cultural practices of community. Our growth has continued more five years and has amplified with community support to reinvision and reconstruct a living economy. NiU NOW! is not large-scale uluniu for economic gain\, but rather groves for a healthy society and the well-being of people.
URL:https://dlnr.hawaii.gov/dofaw/event/kukaniloko-workday-pu%ca%bbuhonoa-society/2025-06-04/
CATEGORIES:Volunteer Events
ORGANIZER;CN="Community Coconut Program":MAILTO:indrajit@hawaii.edu
END:VEVENT
BEGIN:VEVENT
DTSTART;TZID=Pacific/Honolulu:20250524T080000
DTEND;TZID=Pacific/Honolulu:20250524T120000
DTSTAMP:20260420T140805
CREATED:20250130T193319Z
LAST-MODIFIED:20250130T193319Z
UID:10000460-1748073600-1748088000@dlnr.hawaii.gov
SUMMARY:Uluniu Project: UH West Oʻahu & Kaulunani Community Coconut Program
DESCRIPTION:The event below is from a partner in the Year of Our Community Forests: \nNiU NOW! is a community cultural agroforestry movement emerging to affirm the importance of niu\, coconut and uluniu\, coconut groves. At the center of our movement is the re-establishment of a loving relationship with niu and the ancient knowledge practices of Hawai‘i’s coconut heritage as a “tree of life\,” a complete food system. \n\n\n\n\n\n\n\n\nLed by Dr. Manulani Aluli Meyer and Indrajit Gunasekara\, NiU NOW! has three priorities to re-establish the coconut back into ka pae ʻāina o Hawaiʻi\, into the Hawaiian islands: \n\n\nHawaiian cultural revitalization \n\n\nEcological conservation \n\n\nFood security/healing \n\n\nWe begin first with land-based practices that honor our coconut heritage. This movement was founded in our backyards and in the hearts and cultural practices of community. Our growth has continued more five years and has amplified with community support to reinvision and reconstruct a living economy. NiU NOW! is not large-scale uluniu for economic gain\, but rather groves for a healthy society and the well-being of people.
URL:https://dlnr.hawaii.gov/dofaw/event/uluniu-project-uh-west-o%ca%bbahu-kaulunani-community-coconut-program/2025-05-24/
CATEGORIES:Volunteer Events
ORGANIZER;CN="Community Coconut Program":MAILTO:indrajit@hawaii.edu
END:VEVENT
BEGIN:VEVENT
DTSTART;TZID=Pacific/Honolulu:20250521T080000
DTEND;TZID=Pacific/Honolulu:20250521T120000
DTSTAMP:20260420T140805
CREATED:20250130T201537Z
LAST-MODIFIED:20250130T201537Z
UID:10001053-1747814400-1747828800@dlnr.hawaii.gov
SUMMARY:Kūkaniloko Workday: Puʻuhonoa Society
DESCRIPTION:This event is from a partner in the Year of Our Community Forests. \n\n\n\nNiU NOW! is a community cultural agroforestry movement emerging to affirm the importance of niu\, coconut and uluniu\, coconut groves. At the center of our movement is the re-establishment of a loving relationship with niu and the ancient knowledge practices of Hawai‘i’s coconut heritage as a “tree of life\,” a complete food system.\n\n\n\n\n\n\n\n\nLed by Dr. Manulani Aluli Meyer and Indrajit Gunasekara\, NiU NOW! has three priorities to re-establish the coconut back into ka pae ʻāina o Hawaiʻi\, into the Hawaiian islands: \n\n\nHawaiian cultural revitalization \n\n\nEcological conservation \n\n\nFood security/healing \n\n\nWe begin first with land-based practices that honor our coconut heritage. This movement was founded in our backyards and in the hearts and cultural practices of community. Our growth has continued more five years and has amplified with community support to reinvision and reconstruct a living economy. NiU NOW! is not large-scale uluniu for economic gain\, but rather groves for a healthy society and the well-being of people.
URL:https://dlnr.hawaii.gov/dofaw/event/kukaniloko-workday-pu%ca%bbuhonoa-society/2025-05-21/
CATEGORIES:Volunteer Events
ORGANIZER;CN="Community Coconut Program":MAILTO:indrajit@hawaii.edu
END:VEVENT
BEGIN:VEVENT
DTSTART;TZID=Pacific/Honolulu:20250507T080000
DTEND;TZID=Pacific/Honolulu:20250507T120000
DTSTAMP:20260420T140805
CREATED:20250130T201537Z
LAST-MODIFIED:20250130T201537Z
UID:10001052-1746604800-1746619200@dlnr.hawaii.gov
SUMMARY:Kūkaniloko Workday: Puʻuhonoa Society
DESCRIPTION:This event is from a partner in the Year of Our Community Forests. \n\n\n\nNiU NOW! is a community cultural agroforestry movement emerging to affirm the importance of niu\, coconut and uluniu\, coconut groves. At the center of our movement is the re-establishment of a loving relationship with niu and the ancient knowledge practices of Hawai‘i’s coconut heritage as a “tree of life\,” a complete food system.\n\n\n\n\n\n\n\n\nLed by Dr. Manulani Aluli Meyer and Indrajit Gunasekara\, NiU NOW! has three priorities to re-establish the coconut back into ka pae ʻāina o Hawaiʻi\, into the Hawaiian islands: \n\n\nHawaiian cultural revitalization \n\n\nEcological conservation \n\n\nFood security/healing \n\n\nWe begin first with land-based practices that honor our coconut heritage. This movement was founded in our backyards and in the hearts and cultural practices of community. Our growth has continued more five years and has amplified with community support to reinvision and reconstruct a living economy. NiU NOW! is not large-scale uluniu for economic gain\, but rather groves for a healthy society and the well-being of people.
URL:https://dlnr.hawaii.gov/dofaw/event/kukaniloko-workday-pu%ca%bbuhonoa-society/2025-05-07/
CATEGORIES:Volunteer Events
ORGANIZER;CN="Community Coconut Program":MAILTO:indrajit@hawaii.edu
END:VEVENT
BEGIN:VEVENT
DTSTART;TZID=Pacific/Honolulu:20250426T080000
DTEND;TZID=Pacific/Honolulu:20250426T120000
DTSTAMP:20260420T140805
CREATED:20250130T193319Z
LAST-MODIFIED:20250130T193319Z
UID:10000459-1745654400-1745668800@dlnr.hawaii.gov
SUMMARY:Uluniu Project: UH West Oʻahu & Kaulunani Community Coconut Program
DESCRIPTION:The event below is from a partner in the Year of Our Community Forests: \nNiU NOW! is a community cultural agroforestry movement emerging to affirm the importance of niu\, coconut and uluniu\, coconut groves. At the center of our movement is the re-establishment of a loving relationship with niu and the ancient knowledge practices of Hawai‘i’s coconut heritage as a “tree of life\,” a complete food system. \n\n\n\n\n\n\n\n\nLed by Dr. Manulani Aluli Meyer and Indrajit Gunasekara\, NiU NOW! has three priorities to re-establish the coconut back into ka pae ʻāina o Hawaiʻi\, into the Hawaiian islands: \n\n\nHawaiian cultural revitalization \n\n\nEcological conservation \n\n\nFood security/healing \n\n\nWe begin first with land-based practices that honor our coconut heritage. This movement was founded in our backyards and in the hearts and cultural practices of community. Our growth has continued more five years and has amplified with community support to reinvision and reconstruct a living economy. NiU NOW! is not large-scale uluniu for economic gain\, but rather groves for a healthy society and the well-being of people.
URL:https://dlnr.hawaii.gov/dofaw/event/uluniu-project-uh-west-o%ca%bbahu-kaulunani-community-coconut-program/2025-04-26/
CATEGORIES:Volunteer Events
ORGANIZER;CN="Community Coconut Program":MAILTO:indrajit@hawaii.edu
END:VEVENT
BEGIN:VEVENT
DTSTART;TZID=Pacific/Honolulu:20250423T080000
DTEND;TZID=Pacific/Honolulu:20250423T120000
DTSTAMP:20260420T140805
CREATED:20250130T201537Z
LAST-MODIFIED:20250130T201537Z
UID:10001051-1745395200-1745409600@dlnr.hawaii.gov
SUMMARY:Kūkaniloko Workday: Puʻuhonoa Society
DESCRIPTION:This event is from a partner in the Year of Our Community Forests. \n\n\n\nNiU NOW! is a community cultural agroforestry movement emerging to affirm the importance of niu\, coconut and uluniu\, coconut groves. At the center of our movement is the re-establishment of a loving relationship with niu and the ancient knowledge practices of Hawai‘i’s coconut heritage as a “tree of life\,” a complete food system.\n\n\n\n\n\n\n\n\nLed by Dr. Manulani Aluli Meyer and Indrajit Gunasekara\, NiU NOW! has three priorities to re-establish the coconut back into ka pae ʻāina o Hawaiʻi\, into the Hawaiian islands: \n\n\nHawaiian cultural revitalization \n\n\nEcological conservation \n\n\nFood security/healing \n\n\nWe begin first with land-based practices that honor our coconut heritage. This movement was founded in our backyards and in the hearts and cultural practices of community. Our growth has continued more five years and has amplified with community support to reinvision and reconstruct a living economy. NiU NOW! is not large-scale uluniu for economic gain\, but rather groves for a healthy society and the well-being of people.
URL:https://dlnr.hawaii.gov/dofaw/event/kukaniloko-workday-pu%ca%bbuhonoa-society/2025-04-23/
CATEGORIES:Volunteer Events
ORGANIZER;CN="Community Coconut Program":MAILTO:indrajit@hawaii.edu
END:VEVENT
BEGIN:VEVENT
DTSTART;TZID=Pacific/Honolulu:20250409T080000
DTEND;TZID=Pacific/Honolulu:20250409T120000
DTSTAMP:20260420T140805
CREATED:20250130T201537Z
LAST-MODIFIED:20250130T201537Z
UID:10001050-1744185600-1744200000@dlnr.hawaii.gov
SUMMARY:Kūkaniloko Workday: Puʻuhonoa Society
DESCRIPTION:This event is from a partner in the Year of Our Community Forests. \n\n\n\nNiU NOW! is a community cultural agroforestry movement emerging to affirm the importance of niu\, coconut and uluniu\, coconut groves. At the center of our movement is the re-establishment of a loving relationship with niu and the ancient knowledge practices of Hawai‘i’s coconut heritage as a “tree of life\,” a complete food system.\n\n\n\n\n\n\n\n\nLed by Dr. Manulani Aluli Meyer and Indrajit Gunasekara\, NiU NOW! has three priorities to re-establish the coconut back into ka pae ʻāina o Hawaiʻi\, into the Hawaiian islands: \n\n\nHawaiian cultural revitalization \n\n\nEcological conservation \n\n\nFood security/healing \n\n\nWe begin first with land-based practices that honor our coconut heritage. This movement was founded in our backyards and in the hearts and cultural practices of community. Our growth has continued more five years and has amplified with community support to reinvision and reconstruct a living economy. NiU NOW! is not large-scale uluniu for economic gain\, but rather groves for a healthy society and the well-being of people.
URL:https://dlnr.hawaii.gov/dofaw/event/kukaniloko-workday-pu%ca%bbuhonoa-society/2025-04-09/
CATEGORIES:Volunteer Events
ORGANIZER;CN="Community Coconut Program":MAILTO:indrajit@hawaii.edu
END:VEVENT
BEGIN:VEVENT
DTSTART;TZID=Pacific/Honolulu:20250326T080000
DTEND;TZID=Pacific/Honolulu:20250326T120000
DTSTAMP:20260420T140805
CREATED:20250130T201537Z
LAST-MODIFIED:20250130T201537Z
UID:10001049-1742976000-1742990400@dlnr.hawaii.gov
SUMMARY:Kūkaniloko Workday: Puʻuhonoa Society
DESCRIPTION:This event is from a partner in the Year of Our Community Forests. \n\n\n\nNiU NOW! is a community cultural agroforestry movement emerging to affirm the importance of niu\, coconut and uluniu\, coconut groves. At the center of our movement is the re-establishment of a loving relationship with niu and the ancient knowledge practices of Hawai‘i’s coconut heritage as a “tree of life\,” a complete food system.\n\n\n\n\n\n\n\n\nLed by Dr. Manulani Aluli Meyer and Indrajit Gunasekara\, NiU NOW! has three priorities to re-establish the coconut back into ka pae ʻāina o Hawaiʻi\, into the Hawaiian islands: \n\n\nHawaiian cultural revitalization \n\n\nEcological conservation \n\n\nFood security/healing \n\n\nWe begin first with land-based practices that honor our coconut heritage. This movement was founded in our backyards and in the hearts and cultural practices of community. Our growth has continued more five years and has amplified with community support to reinvision and reconstruct a living economy. NiU NOW! is not large-scale uluniu for economic gain\, but rather groves for a healthy society and the well-being of people.
URL:https://dlnr.hawaii.gov/dofaw/event/kukaniloko-workday-pu%ca%bbuhonoa-society/2025-03-26/
CATEGORIES:Volunteer Events
ORGANIZER;CN="Community Coconut Program":MAILTO:indrajit@hawaii.edu
END:VEVENT
BEGIN:VEVENT
DTSTART;TZID=Pacific/Honolulu:20250322T080000
DTEND;TZID=Pacific/Honolulu:20250322T120000
DTSTAMP:20260420T140805
CREATED:20250130T193319Z
LAST-MODIFIED:20250130T193319Z
UID:10000458-1742630400-1742644800@dlnr.hawaii.gov
SUMMARY:Uluniu Project: UH West Oʻahu & Kaulunani Community Coconut Program
DESCRIPTION:The event below is from a partner in the Year of Our Community Forests: \nNiU NOW! is a community cultural agroforestry movement emerging to affirm the importance of niu\, coconut and uluniu\, coconut groves. At the center of our movement is the re-establishment of a loving relationship with niu and the ancient knowledge practices of Hawai‘i’s coconut heritage as a “tree of life\,” a complete food system. \n\n\n\n\n\n\n\n\nLed by Dr. Manulani Aluli Meyer and Indrajit Gunasekara\, NiU NOW! has three priorities to re-establish the coconut back into ka pae ʻāina o Hawaiʻi\, into the Hawaiian islands: \n\n\nHawaiian cultural revitalization \n\n\nEcological conservation \n\n\nFood security/healing \n\n\nWe begin first with land-based practices that honor our coconut heritage. This movement was founded in our backyards and in the hearts and cultural practices of community. Our growth has continued more five years and has amplified with community support to reinvision and reconstruct a living economy. NiU NOW! is not large-scale uluniu for economic gain\, but rather groves for a healthy society and the well-being of people.
URL:https://dlnr.hawaii.gov/dofaw/event/uluniu-project-uh-west-o%ca%bbahu-kaulunani-community-coconut-program/2025-03-22/
CATEGORIES:Volunteer Events
ORGANIZER;CN="Community Coconut Program":MAILTO:indrajit@hawaii.edu
END:VEVENT
BEGIN:VEVENT
DTSTART;TZID=Pacific/Honolulu:20250312T080000
DTEND;TZID=Pacific/Honolulu:20250312T120000
DTSTAMP:20260420T140805
CREATED:20250130T201537Z
LAST-MODIFIED:20250130T201537Z
UID:10001048-1741766400-1741780800@dlnr.hawaii.gov
SUMMARY:Kūkaniloko Workday: Puʻuhonoa Society
DESCRIPTION:This event is from a partner in the Year of Our Community Forests. \n\n\n\nNiU NOW! is a community cultural agroforestry movement emerging to affirm the importance of niu\, coconut and uluniu\, coconut groves. At the center of our movement is the re-establishment of a loving relationship with niu and the ancient knowledge practices of Hawai‘i’s coconut heritage as a “tree of life\,” a complete food system.\n\n\n\n\n\n\n\n\nLed by Dr. Manulani Aluli Meyer and Indrajit Gunasekara\, NiU NOW! has three priorities to re-establish the coconut back into ka pae ʻāina o Hawaiʻi\, into the Hawaiian islands: \n\n\nHawaiian cultural revitalization \n\n\nEcological conservation \n\n\nFood security/healing \n\n\nWe begin first with land-based practices that honor our coconut heritage. This movement was founded in our backyards and in the hearts and cultural practices of community. Our growth has continued more five years and has amplified with community support to reinvision and reconstruct a living economy. NiU NOW! is not large-scale uluniu for economic gain\, but rather groves for a healthy society and the well-being of people.
URL:https://dlnr.hawaii.gov/dofaw/event/kukaniloko-workday-pu%ca%bbuhonoa-society/2025-03-12/
CATEGORIES:Volunteer Events
ORGANIZER;CN="Community Coconut Program":MAILTO:indrajit@hawaii.edu
END:VEVENT
BEGIN:VEVENT
DTSTART;TZID=Pacific/Honolulu:20250226T080000
DTEND;TZID=Pacific/Honolulu:20250226T120000
DTSTAMP:20260420T140805
CREATED:20250130T201537Z
LAST-MODIFIED:20250130T201537Z
UID:10001047-1740556800-1740571200@dlnr.hawaii.gov
SUMMARY:Kūkaniloko Workday: Puʻuhonoa Society
DESCRIPTION:This event is from a partner in the Year of Our Community Forests. \n\n\n\nNiU NOW! is a community cultural agroforestry movement emerging to affirm the importance of niu\, coconut and uluniu\, coconut groves. At the center of our movement is the re-establishment of a loving relationship with niu and the ancient knowledge practices of Hawai‘i’s coconut heritage as a “tree of life\,” a complete food system.\n\n\n\n\n\n\n\n\nLed by Dr. Manulani Aluli Meyer and Indrajit Gunasekara\, NiU NOW! has three priorities to re-establish the coconut back into ka pae ʻāina o Hawaiʻi\, into the Hawaiian islands: \n\n\nHawaiian cultural revitalization \n\n\nEcological conservation \n\n\nFood security/healing \n\n\nWe begin first with land-based practices that honor our coconut heritage. This movement was founded in our backyards and in the hearts and cultural practices of community. Our growth has continued more five years and has amplified with community support to reinvision and reconstruct a living economy. NiU NOW! is not large-scale uluniu for economic gain\, but rather groves for a healthy society and the well-being of people.
URL:https://dlnr.hawaii.gov/dofaw/event/kukaniloko-workday-pu%ca%bbuhonoa-society/2025-02-26/
CATEGORIES:Volunteer Events
ORGANIZER;CN="Community Coconut Program":MAILTO:indrajit@hawaii.edu
END:VEVENT
BEGIN:VEVENT
DTSTART;TZID=Pacific/Honolulu:20250222T080000
DTEND;TZID=Pacific/Honolulu:20250222T120000
DTSTAMP:20260420T140805
CREATED:20250130T193319Z
LAST-MODIFIED:20250130T193319Z
UID:10000457-1740211200-1740225600@dlnr.hawaii.gov
SUMMARY:Uluniu Project: UH West Oʻahu & Kaulunani Community Coconut Program
DESCRIPTION:The event below is from a partner in the Year of Our Community Forests: \nNiU NOW! is a community cultural agroforestry movement emerging to affirm the importance of niu\, coconut and uluniu\, coconut groves. At the center of our movement is the re-establishment of a loving relationship with niu and the ancient knowledge practices of Hawai‘i’s coconut heritage as a “tree of life\,” a complete food system. \n\n\n\n\n\n\n\n\nLed by Dr. Manulani Aluli Meyer and Indrajit Gunasekara\, NiU NOW! has three priorities to re-establish the coconut back into ka pae ʻāina o Hawaiʻi\, into the Hawaiian islands: \n\n\nHawaiian cultural revitalization \n\n\nEcological conservation \n\n\nFood security/healing \n\n\nWe begin first with land-based practices that honor our coconut heritage. This movement was founded in our backyards and in the hearts and cultural practices of community. Our growth has continued more five years and has amplified with community support to reinvision and reconstruct a living economy. NiU NOW! is not large-scale uluniu for economic gain\, but rather groves for a healthy society and the well-being of people.
URL:https://dlnr.hawaii.gov/dofaw/event/uluniu-project-uh-west-o%ca%bbahu-kaulunani-community-coconut-program/2025-02-22/
CATEGORIES:Volunteer Events
ORGANIZER;CN="Community Coconut Program":MAILTO:indrajit@hawaii.edu
END:VEVENT
BEGIN:VEVENT
DTSTART;TZID=Pacific/Honolulu:20250212T080000
DTEND;TZID=Pacific/Honolulu:20250212T120000
DTSTAMP:20260420T140805
CREATED:20250130T201537Z
LAST-MODIFIED:20250130T201537Z
UID:10001046-1739347200-1739361600@dlnr.hawaii.gov
SUMMARY:Kūkaniloko Workday: Puʻuhonoa Society
DESCRIPTION:This event is from a partner in the Year of Our Community Forests. \n\n\n\nNiU NOW! is a community cultural agroforestry movement emerging to affirm the importance of niu\, coconut and uluniu\, coconut groves. At the center of our movement is the re-establishment of a loving relationship with niu and the ancient knowledge practices of Hawai‘i’s coconut heritage as a “tree of life\,” a complete food system.\n\n\n\n\n\n\n\n\nLed by Dr. Manulani Aluli Meyer and Indrajit Gunasekara\, NiU NOW! has three priorities to re-establish the coconut back into ka pae ʻāina o Hawaiʻi\, into the Hawaiian islands: \n\n\nHawaiian cultural revitalization \n\n\nEcological conservation \n\n\nFood security/healing \n\n\nWe begin first with land-based practices that honor our coconut heritage. This movement was founded in our backyards and in the hearts and cultural practices of community. Our growth has continued more five years and has amplified with community support to reinvision and reconstruct a living economy. NiU NOW! is not large-scale uluniu for economic gain\, but rather groves for a healthy society and the well-being of people.
URL:https://dlnr.hawaii.gov/dofaw/event/kukaniloko-workday-pu%ca%bbuhonoa-society/2025-02-12/
CATEGORIES:Volunteer Events
ORGANIZER;CN="Community Coconut Program":MAILTO:indrajit@hawaii.edu
END:VEVENT
END:VCALENDAR