BEGIN:VCALENDAR
VERSION:2.0
PRODID:-//Division of Forestry and Wildlife - ECPv6.15.20//NONSGML v1.0//EN
CALSCALE:GREGORIAN
METHOD:PUBLISH
X-WR-CALNAME:Division of Forestry and Wildlife
X-ORIGINAL-URL:https://dlnr.hawaii.gov/dofaw
X-WR-CALDESC:Events for Division of Forestry and Wildlife
REFRESH-INTERVAL;VALUE=DURATION:PT1H
X-Robots-Tag:noindex
X-PUBLISHED-TTL:PT1H
BEGIN:VTIMEZONE
TZID:Pacific/Honolulu
BEGIN:STANDARD
TZOFFSETFROM:-1000
TZOFFSETTO:-1000
TZNAME:HST
DTSTART:20240101T000000
END:STANDARD
END:VTIMEZONE
BEGIN:VEVENT
DTSTART;TZID=Pacific/Honolulu:20250526T160000
DTEND;TZID=Pacific/Honolulu:20250526T180000
DTSTAMP:20260421T053047
CREATED:20250130T200218Z
LAST-MODIFIED:20250130T200218Z
UID:10000911-1748275200-1748282400@dlnr.hawaii.gov
SUMMARY:Healthy Climate Communities volunteer drop-ins at Hamakua Marsh
DESCRIPTION:This event is from a partner in the Year of Our Community Forests: \nREGULAR EVENTS Open to the public every Monday 4-6pm and the first Saturday 9-11am each month. All ages welcomed. Children 14 and under need to be accompanied by an adult. \nSCHEDULE YOUR OWN EVENT Groups of 8 or more can schedule a special event if another time is preferred. Email info@healthyclimatecommunities.org \nWhere: Chain link gate immediately adjacent to 268 Hamakua Drive will be open. Parking available inside. See map below. \nBring: Water bottles\, covered shoes and sun protection. Long sleeves and pants recommended. We provide gloves\, but you can bring if you have. \nFor waivers and to sign up\, visit: Volunteer – Healthy Climate Communities
URL:https://dlnr.hawaii.gov/dofaw/event/healthy-climate-communities-volunteer-drop-ins-at-hamakua-marsh/2025-05-26/
CATEGORIES:Volunteer Events
ORGANIZER;CN="Healthy Climate Communities":MAILTO:anna@healthyclimatecommunities.org
END:VEVENT
BEGIN:VEVENT
DTSTART;TZID=Pacific/Honolulu:20250519T160000
DTEND;TZID=Pacific/Honolulu:20250519T180000
DTSTAMP:20260421T053047
CREATED:20250130T200218Z
LAST-MODIFIED:20250130T200218Z
UID:10000910-1747670400-1747677600@dlnr.hawaii.gov
SUMMARY:Healthy Climate Communities volunteer drop-ins at Hamakua Marsh
DESCRIPTION:This event is from a partner in the Year of Our Community Forests: \nREGULAR EVENTS Open to the public every Monday 4-6pm and the first Saturday 9-11am each month. All ages welcomed. Children 14 and under need to be accompanied by an adult. \nSCHEDULE YOUR OWN EVENT Groups of 8 or more can schedule a special event if another time is preferred. Email info@healthyclimatecommunities.org \nWhere: Chain link gate immediately adjacent to 268 Hamakua Drive will be open. Parking available inside. See map below. \nBring: Water bottles\, covered shoes and sun protection. Long sleeves and pants recommended. We provide gloves\, but you can bring if you have. \nFor waivers and to sign up\, visit: Volunteer – Healthy Climate Communities
URL:https://dlnr.hawaii.gov/dofaw/event/healthy-climate-communities-volunteer-drop-ins-at-hamakua-marsh/2025-05-19/
CATEGORIES:Volunteer Events
ORGANIZER;CN="Healthy Climate Communities":MAILTO:anna@healthyclimatecommunities.org
END:VEVENT
BEGIN:VEVENT
DTSTART;TZID=Pacific/Honolulu:20250512T160000
DTEND;TZID=Pacific/Honolulu:20250512T180000
DTSTAMP:20260421T053047
CREATED:20250130T200218Z
LAST-MODIFIED:20250130T200218Z
UID:10000909-1747065600-1747072800@dlnr.hawaii.gov
SUMMARY:Healthy Climate Communities volunteer drop-ins at Hamakua Marsh
DESCRIPTION:This event is from a partner in the Year of Our Community Forests: \nREGULAR EVENTS Open to the public every Monday 4-6pm and the first Saturday 9-11am each month. All ages welcomed. Children 14 and under need to be accompanied by an adult. \nSCHEDULE YOUR OWN EVENT Groups of 8 or more can schedule a special event if another time is preferred. Email info@healthyclimatecommunities.org \nWhere: Chain link gate immediately adjacent to 268 Hamakua Drive will be open. Parking available inside. See map below. \nBring: Water bottles\, covered shoes and sun protection. Long sleeves and pants recommended. We provide gloves\, but you can bring if you have. \nFor waivers and to sign up\, visit: Volunteer – Healthy Climate Communities
URL:https://dlnr.hawaii.gov/dofaw/event/healthy-climate-communities-volunteer-drop-ins-at-hamakua-marsh/2025-05-12/
CATEGORIES:Volunteer Events
ORGANIZER;CN="Healthy Climate Communities":MAILTO:anna@healthyclimatecommunities.org
END:VEVENT
BEGIN:VEVENT
DTSTART;TZID=Pacific/Honolulu:20250505T160000
DTEND;TZID=Pacific/Honolulu:20250505T180000
DTSTAMP:20260421T053047
CREATED:20250130T200218Z
LAST-MODIFIED:20250130T200218Z
UID:10000908-1746460800-1746468000@dlnr.hawaii.gov
SUMMARY:Healthy Climate Communities volunteer drop-ins at Hamakua Marsh
DESCRIPTION:This event is from a partner in the Year of Our Community Forests: \nREGULAR EVENTS Open to the public every Monday 4-6pm and the first Saturday 9-11am each month. All ages welcomed. Children 14 and under need to be accompanied by an adult. \nSCHEDULE YOUR OWN EVENT Groups of 8 or more can schedule a special event if another time is preferred. Email info@healthyclimatecommunities.org \nWhere: Chain link gate immediately adjacent to 268 Hamakua Drive will be open. Parking available inside. See map below. \nBring: Water bottles\, covered shoes and sun protection. Long sleeves and pants recommended. We provide gloves\, but you can bring if you have. \nFor waivers and to sign up\, visit: Volunteer – Healthy Climate Communities
URL:https://dlnr.hawaii.gov/dofaw/event/healthy-climate-communities-volunteer-drop-ins-at-hamakua-marsh/2025-05-05/
CATEGORIES:Volunteer Events
ORGANIZER;CN="Healthy Climate Communities":MAILTO:anna@healthyclimatecommunities.org
END:VEVENT
BEGIN:VEVENT
DTSTART;TZID=Pacific/Honolulu:20250503T090000
DTEND;TZID=Pacific/Honolulu:20250503T110000
DTSTAMP:20260421T053047
CREATED:20250130T200355Z
LAST-MODIFIED:20250130T200446Z
UID:10001005-1746262800-1746270000@dlnr.hawaii.gov
SUMMARY:Healthy Climate Communities volunteer drop-ins at Hamakua Marsh
DESCRIPTION:This event is from a partner in the Year of Our Community Forests: \nREGULAR EVENTS Open to the public every Monday 4-6pm and the first Saturday 9-11am each month. All ages welcomed. Children 14 and under need to be accompanied by an adult. \nSCHEDULE YOUR OWN EVENT Groups of 8 or more can schedule a special event if another time is preferred. Email info@healthyclimatecommunities.org \nWhere: Chain link gate immediately adjacent to 268 Hamakua Drive will be open. Parking available inside. See map below. \nBring: Water bottles\, covered shoes and sun protection. Long sleeves and pants recommended. We provide gloves\, but you can bring if you have. \nFor waivers and to sign up\, visit: Volunteer – Healthy Climate Communities
URL:https://dlnr.hawaii.gov/dofaw/event/healthy-climate-communities-volunteer-drop-ins-at-hamakua-marsh-2/2025-05-03/
CATEGORIES:Volunteer Events
ORGANIZER;CN="Healthy Climate Communities":MAILTO:anna@healthyclimatecommunities.org
END:VEVENT
BEGIN:VEVENT
DTSTART;TZID=Pacific/Honolulu:20250428T160000
DTEND;TZID=Pacific/Honolulu:20250428T180000
DTSTAMP:20260421T053047
CREATED:20250130T200218Z
LAST-MODIFIED:20250130T200218Z
UID:10000907-1745856000-1745863200@dlnr.hawaii.gov
SUMMARY:Healthy Climate Communities volunteer drop-ins at Hamakua Marsh
DESCRIPTION:This event is from a partner in the Year of Our Community Forests: \nREGULAR EVENTS Open to the public every Monday 4-6pm and the first Saturday 9-11am each month. All ages welcomed. Children 14 and under need to be accompanied by an adult. \nSCHEDULE YOUR OWN EVENT Groups of 8 or more can schedule a special event if another time is preferred. Email info@healthyclimatecommunities.org \nWhere: Chain link gate immediately adjacent to 268 Hamakua Drive will be open. Parking available inside. See map below. \nBring: Water bottles\, covered shoes and sun protection. Long sleeves and pants recommended. We provide gloves\, but you can bring if you have. \nFor waivers and to sign up\, visit: Volunteer – Healthy Climate Communities
URL:https://dlnr.hawaii.gov/dofaw/event/healthy-climate-communities-volunteer-drop-ins-at-hamakua-marsh/2025-04-28/
CATEGORIES:Volunteer Events
ORGANIZER;CN="Healthy Climate Communities":MAILTO:anna@healthyclimatecommunities.org
END:VEVENT
BEGIN:VEVENT
DTSTART;TZID=Pacific/Honolulu:20250421T160000
DTEND;TZID=Pacific/Honolulu:20250421T180000
DTSTAMP:20260421T053047
CREATED:20250130T200218Z
LAST-MODIFIED:20250130T200218Z
UID:10000906-1745251200-1745258400@dlnr.hawaii.gov
SUMMARY:Healthy Climate Communities volunteer drop-ins at Hamakua Marsh
DESCRIPTION:This event is from a partner in the Year of Our Community Forests: \nREGULAR EVENTS Open to the public every Monday 4-6pm and the first Saturday 9-11am each month. All ages welcomed. Children 14 and under need to be accompanied by an adult. \nSCHEDULE YOUR OWN EVENT Groups of 8 or more can schedule a special event if another time is preferred. Email info@healthyclimatecommunities.org \nWhere: Chain link gate immediately adjacent to 268 Hamakua Drive will be open. Parking available inside. See map below. \nBring: Water bottles\, covered shoes and sun protection. Long sleeves and pants recommended. We provide gloves\, but you can bring if you have. \nFor waivers and to sign up\, visit: Volunteer – Healthy Climate Communities
URL:https://dlnr.hawaii.gov/dofaw/event/healthy-climate-communities-volunteer-drop-ins-at-hamakua-marsh/2025-04-21/
CATEGORIES:Volunteer Events
ORGANIZER;CN="Healthy Climate Communities":MAILTO:anna@healthyclimatecommunities.org
END:VEVENT
BEGIN:VEVENT
DTSTART;TZID=Pacific/Honolulu:20250414T160000
DTEND;TZID=Pacific/Honolulu:20250414T180000
DTSTAMP:20260421T053047
CREATED:20250130T200218Z
LAST-MODIFIED:20250130T200218Z
UID:10000905-1744646400-1744653600@dlnr.hawaii.gov
SUMMARY:Healthy Climate Communities volunteer drop-ins at Hamakua Marsh
DESCRIPTION:This event is from a partner in the Year of Our Community Forests: \nREGULAR EVENTS Open to the public every Monday 4-6pm and the first Saturday 9-11am each month. All ages welcomed. Children 14 and under need to be accompanied by an adult. \nSCHEDULE YOUR OWN EVENT Groups of 8 or more can schedule a special event if another time is preferred. Email info@healthyclimatecommunities.org \nWhere: Chain link gate immediately adjacent to 268 Hamakua Drive will be open. Parking available inside. See map below. \nBring: Water bottles\, covered shoes and sun protection. Long sleeves and pants recommended. We provide gloves\, but you can bring if you have. \nFor waivers and to sign up\, visit: Volunteer – Healthy Climate Communities
URL:https://dlnr.hawaii.gov/dofaw/event/healthy-climate-communities-volunteer-drop-ins-at-hamakua-marsh/2025-04-14/
CATEGORIES:Volunteer Events
ORGANIZER;CN="Healthy Climate Communities":MAILTO:anna@healthyclimatecommunities.org
END:VEVENT
BEGIN:VEVENT
DTSTART;TZID=Pacific/Honolulu:20250407T160000
DTEND;TZID=Pacific/Honolulu:20250407T180000
DTSTAMP:20260421T053047
CREATED:20250130T200218Z
LAST-MODIFIED:20250130T200218Z
UID:10000904-1744041600-1744048800@dlnr.hawaii.gov
SUMMARY:Healthy Climate Communities volunteer drop-ins at Hamakua Marsh
DESCRIPTION:This event is from a partner in the Year of Our Community Forests: \nREGULAR EVENTS Open to the public every Monday 4-6pm and the first Saturday 9-11am each month. All ages welcomed. Children 14 and under need to be accompanied by an adult. \nSCHEDULE YOUR OWN EVENT Groups of 8 or more can schedule a special event if another time is preferred. Email info@healthyclimatecommunities.org \nWhere: Chain link gate immediately adjacent to 268 Hamakua Drive will be open. Parking available inside. See map below. \nBring: Water bottles\, covered shoes and sun protection. Long sleeves and pants recommended. We provide gloves\, but you can bring if you have. \nFor waivers and to sign up\, visit: Volunteer – Healthy Climate Communities
URL:https://dlnr.hawaii.gov/dofaw/event/healthy-climate-communities-volunteer-drop-ins-at-hamakua-marsh/2025-04-07/
CATEGORIES:Volunteer Events
ORGANIZER;CN="Healthy Climate Communities":MAILTO:anna@healthyclimatecommunities.org
END:VEVENT
BEGIN:VEVENT
DTSTART;TZID=Pacific/Honolulu:20250405T090000
DTEND;TZID=Pacific/Honolulu:20250405T110000
DTSTAMP:20260421T053047
CREATED:20250130T200355Z
LAST-MODIFIED:20250130T200446Z
UID:10001004-1743843600-1743850800@dlnr.hawaii.gov
SUMMARY:Healthy Climate Communities volunteer drop-ins at Hamakua Marsh
DESCRIPTION:This event is from a partner in the Year of Our Community Forests: \nREGULAR EVENTS Open to the public every Monday 4-6pm and the first Saturday 9-11am each month. All ages welcomed. Children 14 and under need to be accompanied by an adult. \nSCHEDULE YOUR OWN EVENT Groups of 8 or more can schedule a special event if another time is preferred. Email info@healthyclimatecommunities.org \nWhere: Chain link gate immediately adjacent to 268 Hamakua Drive will be open. Parking available inside. See map below. \nBring: Water bottles\, covered shoes and sun protection. Long sleeves and pants recommended. We provide gloves\, but you can bring if you have. \nFor waivers and to sign up\, visit: Volunteer – Healthy Climate Communities
URL:https://dlnr.hawaii.gov/dofaw/event/healthy-climate-communities-volunteer-drop-ins-at-hamakua-marsh-2/2025-04-05/
CATEGORIES:Volunteer Events
ORGANIZER;CN="Healthy Climate Communities":MAILTO:anna@healthyclimatecommunities.org
END:VEVENT
BEGIN:VEVENT
DTSTART;TZID=Pacific/Honolulu:20250331T160000
DTEND;TZID=Pacific/Honolulu:20250331T180000
DTSTAMP:20260421T053047
CREATED:20250130T200218Z
LAST-MODIFIED:20250130T200218Z
UID:10000903-1743436800-1743444000@dlnr.hawaii.gov
SUMMARY:Healthy Climate Communities volunteer drop-ins at Hamakua Marsh
DESCRIPTION:This event is from a partner in the Year of Our Community Forests: \nREGULAR EVENTS Open to the public every Monday 4-6pm and the first Saturday 9-11am each month. All ages welcomed. Children 14 and under need to be accompanied by an adult. \nSCHEDULE YOUR OWN EVENT Groups of 8 or more can schedule a special event if another time is preferred. Email info@healthyclimatecommunities.org \nWhere: Chain link gate immediately adjacent to 268 Hamakua Drive will be open. Parking available inside. See map below. \nBring: Water bottles\, covered shoes and sun protection. Long sleeves and pants recommended. We provide gloves\, but you can bring if you have. \nFor waivers and to sign up\, visit: Volunteer – Healthy Climate Communities
URL:https://dlnr.hawaii.gov/dofaw/event/healthy-climate-communities-volunteer-drop-ins-at-hamakua-marsh/2025-03-31/
CATEGORIES:Volunteer Events
ORGANIZER;CN="Healthy Climate Communities":MAILTO:anna@healthyclimatecommunities.org
END:VEVENT
BEGIN:VEVENT
DTSTART;TZID=Pacific/Honolulu:20250324T160000
DTEND;TZID=Pacific/Honolulu:20250324T180000
DTSTAMP:20260421T053047
CREATED:20250130T200218Z
LAST-MODIFIED:20250130T200218Z
UID:10000902-1742832000-1742839200@dlnr.hawaii.gov
SUMMARY:Healthy Climate Communities volunteer drop-ins at Hamakua Marsh
DESCRIPTION:This event is from a partner in the Year of Our Community Forests: \nREGULAR EVENTS Open to the public every Monday 4-6pm and the first Saturday 9-11am each month. All ages welcomed. Children 14 and under need to be accompanied by an adult. \nSCHEDULE YOUR OWN EVENT Groups of 8 or more can schedule a special event if another time is preferred. Email info@healthyclimatecommunities.org \nWhere: Chain link gate immediately adjacent to 268 Hamakua Drive will be open. Parking available inside. See map below. \nBring: Water bottles\, covered shoes and sun protection. Long sleeves and pants recommended. We provide gloves\, but you can bring if you have. \nFor waivers and to sign up\, visit: Volunteer – Healthy Climate Communities
URL:https://dlnr.hawaii.gov/dofaw/event/healthy-climate-communities-volunteer-drop-ins-at-hamakua-marsh/2025-03-24/
CATEGORIES:Volunteer Events
ORGANIZER;CN="Healthy Climate Communities":MAILTO:anna@healthyclimatecommunities.org
END:VEVENT
BEGIN:VEVENT
DTSTART;TZID=Pacific/Honolulu:20250317T160000
DTEND;TZID=Pacific/Honolulu:20250317T180000
DTSTAMP:20260421T053047
CREATED:20250130T200218Z
LAST-MODIFIED:20250130T200218Z
UID:10000901-1742227200-1742234400@dlnr.hawaii.gov
SUMMARY:Healthy Climate Communities volunteer drop-ins at Hamakua Marsh
DESCRIPTION:This event is from a partner in the Year of Our Community Forests: \nREGULAR EVENTS Open to the public every Monday 4-6pm and the first Saturday 9-11am each month. All ages welcomed. Children 14 and under need to be accompanied by an adult. \nSCHEDULE YOUR OWN EVENT Groups of 8 or more can schedule a special event if another time is preferred. Email info@healthyclimatecommunities.org \nWhere: Chain link gate immediately adjacent to 268 Hamakua Drive will be open. Parking available inside. See map below. \nBring: Water bottles\, covered shoes and sun protection. Long sleeves and pants recommended. We provide gloves\, but you can bring if you have. \nFor waivers and to sign up\, visit: Volunteer – Healthy Climate Communities
URL:https://dlnr.hawaii.gov/dofaw/event/healthy-climate-communities-volunteer-drop-ins-at-hamakua-marsh/2025-03-17/
CATEGORIES:Volunteer Events
ORGANIZER;CN="Healthy Climate Communities":MAILTO:anna@healthyclimatecommunities.org
END:VEVENT
BEGIN:VEVENT
DTSTART;TZID=Pacific/Honolulu:20250310T160000
DTEND;TZID=Pacific/Honolulu:20250310T180000
DTSTAMP:20260421T053047
CREATED:20250130T200218Z
LAST-MODIFIED:20250130T200218Z
UID:10000900-1741622400-1741629600@dlnr.hawaii.gov
SUMMARY:Healthy Climate Communities volunteer drop-ins at Hamakua Marsh
DESCRIPTION:This event is from a partner in the Year of Our Community Forests: \nREGULAR EVENTS Open to the public every Monday 4-6pm and the first Saturday 9-11am each month. All ages welcomed. Children 14 and under need to be accompanied by an adult. \nSCHEDULE YOUR OWN EVENT Groups of 8 or more can schedule a special event if another time is preferred. Email info@healthyclimatecommunities.org \nWhere: Chain link gate immediately adjacent to 268 Hamakua Drive will be open. Parking available inside. See map below. \nBring: Water bottles\, covered shoes and sun protection. Long sleeves and pants recommended. We provide gloves\, but you can bring if you have. \nFor waivers and to sign up\, visit: Volunteer – Healthy Climate Communities
URL:https://dlnr.hawaii.gov/dofaw/event/healthy-climate-communities-volunteer-drop-ins-at-hamakua-marsh/2025-03-10/
CATEGORIES:Volunteer Events
ORGANIZER;CN="Healthy Climate Communities":MAILTO:anna@healthyclimatecommunities.org
END:VEVENT
BEGIN:VEVENT
DTSTART;TZID=Pacific/Honolulu:20250303T160000
DTEND;TZID=Pacific/Honolulu:20250303T180000
DTSTAMP:20260421T053047
CREATED:20250130T200218Z
LAST-MODIFIED:20250130T200218Z
UID:10000899-1741017600-1741024800@dlnr.hawaii.gov
SUMMARY:Healthy Climate Communities volunteer drop-ins at Hamakua Marsh
DESCRIPTION:This event is from a partner in the Year of Our Community Forests: \nREGULAR EVENTS Open to the public every Monday 4-6pm and the first Saturday 9-11am each month. All ages welcomed. Children 14 and under need to be accompanied by an adult. \nSCHEDULE YOUR OWN EVENT Groups of 8 or more can schedule a special event if another time is preferred. Email info@healthyclimatecommunities.org \nWhere: Chain link gate immediately adjacent to 268 Hamakua Drive will be open. Parking available inside. See map below. \nBring: Water bottles\, covered shoes and sun protection. Long sleeves and pants recommended. We provide gloves\, but you can bring if you have. \nFor waivers and to sign up\, visit: Volunteer – Healthy Climate Communities
URL:https://dlnr.hawaii.gov/dofaw/event/healthy-climate-communities-volunteer-drop-ins-at-hamakua-marsh/2025-03-03/
CATEGORIES:Volunteer Events
ORGANIZER;CN="Healthy Climate Communities":MAILTO:anna@healthyclimatecommunities.org
END:VEVENT
BEGIN:VEVENT
DTSTART;TZID=Pacific/Honolulu:20250301T090000
DTEND;TZID=Pacific/Honolulu:20250301T110000
DTSTAMP:20260421T053047
CREATED:20250130T200355Z
LAST-MODIFIED:20250130T200446Z
UID:10001003-1740819600-1740826800@dlnr.hawaii.gov
SUMMARY:Healthy Climate Communities volunteer drop-ins at Hamakua Marsh
DESCRIPTION:This event is from a partner in the Year of Our Community Forests: \nREGULAR EVENTS Open to the public every Monday 4-6pm and the first Saturday 9-11am each month. All ages welcomed. Children 14 and under need to be accompanied by an adult. \nSCHEDULE YOUR OWN EVENT Groups of 8 or more can schedule a special event if another time is preferred. Email info@healthyclimatecommunities.org \nWhere: Chain link gate immediately adjacent to 268 Hamakua Drive will be open. Parking available inside. See map below. \nBring: Water bottles\, covered shoes and sun protection. Long sleeves and pants recommended. We provide gloves\, but you can bring if you have. \nFor waivers and to sign up\, visit: Volunteer – Healthy Climate Communities
URL:https://dlnr.hawaii.gov/dofaw/event/healthy-climate-communities-volunteer-drop-ins-at-hamakua-marsh-2/2025-03-01/
CATEGORIES:Volunteer Events
ORGANIZER;CN="Healthy Climate Communities":MAILTO:anna@healthyclimatecommunities.org
END:VEVENT
BEGIN:VEVENT
DTSTART;TZID=Pacific/Honolulu:20250224T160000
DTEND;TZID=Pacific/Honolulu:20250224T180000
DTSTAMP:20260421T053047
CREATED:20250130T200218Z
LAST-MODIFIED:20250130T200218Z
UID:10000898-1740412800-1740420000@dlnr.hawaii.gov
SUMMARY:Healthy Climate Communities volunteer drop-ins at Hamakua Marsh
DESCRIPTION:This event is from a partner in the Year of Our Community Forests: \nREGULAR EVENTS Open to the public every Monday 4-6pm and the first Saturday 9-11am each month. All ages welcomed. Children 14 and under need to be accompanied by an adult. \nSCHEDULE YOUR OWN EVENT Groups of 8 or more can schedule a special event if another time is preferred. Email info@healthyclimatecommunities.org \nWhere: Chain link gate immediately adjacent to 268 Hamakua Drive will be open. Parking available inside. See map below. \nBring: Water bottles\, covered shoes and sun protection. Long sleeves and pants recommended. We provide gloves\, but you can bring if you have. \nFor waivers and to sign up\, visit: Volunteer – Healthy Climate Communities
URL:https://dlnr.hawaii.gov/dofaw/event/healthy-climate-communities-volunteer-drop-ins-at-hamakua-marsh/2025-02-24/
CATEGORIES:Volunteer Events
ORGANIZER;CN="Healthy Climate Communities":MAILTO:anna@healthyclimatecommunities.org
END:VEVENT
BEGIN:VEVENT
DTSTART;TZID=Pacific/Honolulu:20250217T160000
DTEND;TZID=Pacific/Honolulu:20250217T180000
DTSTAMP:20260421T053047
CREATED:20250130T200218Z
LAST-MODIFIED:20250130T200218Z
UID:10000897-1739808000-1739815200@dlnr.hawaii.gov
SUMMARY:Healthy Climate Communities volunteer drop-ins at Hamakua Marsh
DESCRIPTION:This event is from a partner in the Year of Our Community Forests: \nREGULAR EVENTS Open to the public every Monday 4-6pm and the first Saturday 9-11am each month. All ages welcomed. Children 14 and under need to be accompanied by an adult. \nSCHEDULE YOUR OWN EVENT Groups of 8 or more can schedule a special event if another time is preferred. Email info@healthyclimatecommunities.org \nWhere: Chain link gate immediately adjacent to 268 Hamakua Drive will be open. Parking available inside. See map below. \nBring: Water bottles\, covered shoes and sun protection. Long sleeves and pants recommended. We provide gloves\, but you can bring if you have. \nFor waivers and to sign up\, visit: Volunteer – Healthy Climate Communities
URL:https://dlnr.hawaii.gov/dofaw/event/healthy-climate-communities-volunteer-drop-ins-at-hamakua-marsh/2025-02-17/
CATEGORIES:Volunteer Events
ORGANIZER;CN="Healthy Climate Communities":MAILTO:anna@healthyclimatecommunities.org
END:VEVENT
BEGIN:VEVENT
DTSTART;TZID=Pacific/Honolulu:20250210T160000
DTEND;TZID=Pacific/Honolulu:20250210T180000
DTSTAMP:20260421T053047
CREATED:20250130T200218Z
LAST-MODIFIED:20250130T200218Z
UID:10000896-1739203200-1739210400@dlnr.hawaii.gov
SUMMARY:Healthy Climate Communities volunteer drop-ins at Hamakua Marsh
DESCRIPTION:This event is from a partner in the Year of Our Community Forests: \nREGULAR EVENTS Open to the public every Monday 4-6pm and the first Saturday 9-11am each month. All ages welcomed. Children 14 and under need to be accompanied by an adult. \nSCHEDULE YOUR OWN EVENT Groups of 8 or more can schedule a special event if another time is preferred. Email info@healthyclimatecommunities.org \nWhere: Chain link gate immediately adjacent to 268 Hamakua Drive will be open. Parking available inside. See map below. \nBring: Water bottles\, covered shoes and sun protection. Long sleeves and pants recommended. We provide gloves\, but you can bring if you have. \nFor waivers and to sign up\, visit: Volunteer – Healthy Climate Communities
URL:https://dlnr.hawaii.gov/dofaw/event/healthy-climate-communities-volunteer-drop-ins-at-hamakua-marsh/2025-02-10/
CATEGORIES:Volunteer Events
ORGANIZER;CN="Healthy Climate Communities":MAILTO:anna@healthyclimatecommunities.org
END:VEVENT
BEGIN:VEVENT
DTSTART;TZID=Pacific/Honolulu:20250203T160000
DTEND;TZID=Pacific/Honolulu:20250203T180000
DTSTAMP:20260421T053047
CREATED:20250130T200218Z
LAST-MODIFIED:20250130T200218Z
UID:10000895-1738598400-1738605600@dlnr.hawaii.gov
SUMMARY:Healthy Climate Communities volunteer drop-ins at Hamakua Marsh
DESCRIPTION:This event is from a partner in the Year of Our Community Forests: \nREGULAR EVENTS Open to the public every Monday 4-6pm and the first Saturday 9-11am each month. All ages welcomed. Children 14 and under need to be accompanied by an adult. \nSCHEDULE YOUR OWN EVENT Groups of 8 or more can schedule a special event if another time is preferred. Email info@healthyclimatecommunities.org \nWhere: Chain link gate immediately adjacent to 268 Hamakua Drive will be open. Parking available inside. See map below. \nBring: Water bottles\, covered shoes and sun protection. Long sleeves and pants recommended. We provide gloves\, but you can bring if you have. \nFor waivers and to sign up\, visit: Volunteer – Healthy Climate Communities
URL:https://dlnr.hawaii.gov/dofaw/event/healthy-climate-communities-volunteer-drop-ins-at-hamakua-marsh/2025-02-03/
CATEGORIES:Volunteer Events
ORGANIZER;CN="Healthy Climate Communities":MAILTO:anna@healthyclimatecommunities.org
END:VEVENT
BEGIN:VEVENT
DTSTART;TZID=Pacific/Honolulu:20250201T090000
DTEND;TZID=Pacific/Honolulu:20250201T110000
DTSTAMP:20260421T053047
CREATED:20250130T200355Z
LAST-MODIFIED:20250130T200446Z
UID:10001002-1738400400-1738407600@dlnr.hawaii.gov
SUMMARY:Healthy Climate Communities volunteer drop-ins at Hamakua Marsh
DESCRIPTION:This event is from a partner in the Year of Our Community Forests: \nREGULAR EVENTS Open to the public every Monday 4-6pm and the first Saturday 9-11am each month. All ages welcomed. Children 14 and under need to be accompanied by an adult. \nSCHEDULE YOUR OWN EVENT Groups of 8 or more can schedule a special event if another time is preferred. Email info@healthyclimatecommunities.org \nWhere: Chain link gate immediately adjacent to 268 Hamakua Drive will be open. Parking available inside. See map below. \nBring: Water bottles\, covered shoes and sun protection. Long sleeves and pants recommended. We provide gloves\, but you can bring if you have. \nFor waivers and to sign up\, visit: Volunteer – Healthy Climate Communities
URL:https://dlnr.hawaii.gov/dofaw/event/healthy-climate-communities-volunteer-drop-ins-at-hamakua-marsh-2/2025-02-01/
CATEGORIES:Volunteer Events
ORGANIZER;CN="Healthy Climate Communities":MAILTO:anna@healthyclimatecommunities.org
END:VEVENT
END:VCALENDAR