BEGIN:VCALENDAR
VERSION:2.0
PRODID:-//Division of Forestry and Wildlife - ECPv6.15.20//NONSGML v1.0//EN
CALSCALE:GREGORIAN
METHOD:PUBLISH
X-WR-CALNAME:Division of Forestry and Wildlife
X-ORIGINAL-URL:https://dlnr.hawaii.gov/dofaw
X-WR-CALDESC:Events for Division of Forestry and Wildlife
REFRESH-INTERVAL;VALUE=DURATION:PT1H
X-Robots-Tag:noindex
X-PUBLISHED-TTL:PT1H
BEGIN:VTIMEZONE
TZID:Pacific/Honolulu
BEGIN:STANDARD
TZOFFSETFROM:-1000
TZOFFSETTO:-1000
TZNAME:HST
DTSTART:20240101T000000
END:STANDARD
END:VTIMEZONE
BEGIN:VEVENT
DTSTART;TZID=Pacific/Honolulu:20250201T090000
DTEND;TZID=Pacific/Honolulu:20250201T110000
DTSTAMP:20260421T105536
CREATED:20250130T200355Z
LAST-MODIFIED:20250130T200446Z
UID:10001002-1738400400-1738407600@dlnr.hawaii.gov
SUMMARY:Healthy Climate Communities volunteer drop-ins at Hamakua Marsh
DESCRIPTION:This event is from a partner in the Year of Our Community Forests: \nREGULAR EVENTS Open to the public every Monday 4-6pm and the first Saturday 9-11am each month. All ages welcomed. Children 14 and under need to be accompanied by an adult. \nSCHEDULE YOUR OWN EVENT Groups of 8 or more can schedule a special event if another time is preferred. Email info@healthyclimatecommunities.org \nWhere: Chain link gate immediately adjacent to 268 Hamakua Drive will be open. Parking available inside. See map below. \nBring: Water bottles\, covered shoes and sun protection. Long sleeves and pants recommended. We provide gloves\, but you can bring if you have. \nFor waivers and to sign up\, visit: Volunteer – Healthy Climate Communities
URL:https://dlnr.hawaii.gov/dofaw/event/healthy-climate-communities-volunteer-drop-ins-at-hamakua-marsh-2/2025-02-01/
CATEGORIES:Volunteer Events
ORGANIZER;CN="Healthy Climate Communities":MAILTO:anna@healthyclimatecommunities.org
END:VEVENT
END:VCALENDAR