BEGIN:VCALENDAR
VERSION:2.0
PRODID:-//Division of Forestry and Wildlife - ECPv6.15.20//NONSGML v1.0//EN
CALSCALE:GREGORIAN
METHOD:PUBLISH
X-ORIGINAL-URL:https://dlnr.hawaii.gov/dofaw
X-WR-CALDESC:Events for Division of Forestry and Wildlife
REFRESH-INTERVAL;VALUE=DURATION:PT1H
X-Robots-Tag:noindex
X-PUBLISHED-TTL:PT1H
BEGIN:VTIMEZONE
TZID:Pacific/Honolulu
BEGIN:STANDARD
TZOFFSETFROM:-1000
TZOFFSETTO:-1000
TZNAME:HST
DTSTART:20240101T000000
END:STANDARD
END:VTIMEZONE
BEGIN:VEVENT
DTSTART;TZID=Pacific/Honolulu:20250613T090000
DTEND;TZID=Pacific/Honolulu:20250613T120000
DTSTAMP:20260419T142321
CREATED:20250130T214310Z
LAST-MODIFIED:20250130T214310Z
UID:10001991-1749805200-1749816000@dlnr.hawaii.gov
SUMMARY:Kaha Native Plant Garden Volunteer Day
DESCRIPTION:This event is from a partner in the Year of Our Community Forests. Visit their website for details. \nKaha Garden is maintained solely by community volunteers. Since 2009\, volunteers have committed over 9000 hours of their time to the maintenance of the garden and donations from community members have allowed Hui o Ko’olaupoko to purchase gardening supplies and additional plants. Volunteers at Kaha Garden are taught to identify the native plants\, learn their growing patterns\, how to properly propagate\, and where to plant different species to maximize their ecological benefits. \nYou can contact us to schedule a personalized class field trip or private group workday \nKaha Garden is located within Kawainui Neighborhood Park at 750 Kaha Street in Kailua.
URL:https://dlnr.hawaii.gov/dofaw/event/kaha-native-plant-garden-volunteer-day/2025-06-13/
CATEGORIES:Volunteer Events
END:VEVENT
BEGIN:VEVENT
DTSTART;TZID=Pacific/Honolulu:20250523T090000
DTEND;TZID=Pacific/Honolulu:20250523T120000
DTSTAMP:20260419T142321
CREATED:20250130T214310Z
LAST-MODIFIED:20250130T214310Z
UID:10001990-1747990800-1748001600@dlnr.hawaii.gov
SUMMARY:Kaha Native Plant Garden Volunteer Day
DESCRIPTION:This event is from a partner in the Year of Our Community Forests. Visit their website for details. \nKaha Garden is maintained solely by community volunteers. Since 2009\, volunteers have committed over 9000 hours of their time to the maintenance of the garden and donations from community members have allowed Hui o Ko’olaupoko to purchase gardening supplies and additional plants. Volunteers at Kaha Garden are taught to identify the native plants\, learn their growing patterns\, how to properly propagate\, and where to plant different species to maximize their ecological benefits. \nYou can contact us to schedule a personalized class field trip or private group workday \nKaha Garden is located within Kawainui Neighborhood Park at 750 Kaha Street in Kailua.
URL:https://dlnr.hawaii.gov/dofaw/event/kaha-native-plant-garden-volunteer-day/2025-05-23/
CATEGORIES:Volunteer Events
END:VEVENT
BEGIN:VEVENT
DTSTART;TZID=Pacific/Honolulu:20250517T090000
DTEND;TZID=Pacific/Honolulu:20250517T120000
DTSTAMP:20260419T142321
CREATED:20250130T214310Z
LAST-MODIFIED:20250130T214310Z
UID:10001989-1747472400-1747483200@dlnr.hawaii.gov
SUMMARY:Kaha Native Plant Garden Volunteer Day
DESCRIPTION:This event is from a partner in the Year of Our Community Forests. Visit their website for details. \nKaha Garden is maintained solely by community volunteers. Since 2009\, volunteers have committed over 9000 hours of their time to the maintenance of the garden and donations from community members have allowed Hui o Ko’olaupoko to purchase gardening supplies and additional plants. Volunteers at Kaha Garden are taught to identify the native plants\, learn their growing patterns\, how to properly propagate\, and where to plant different species to maximize their ecological benefits. \nYou can contact us to schedule a personalized class field trip or private group workday \nKaha Garden is located within Kawainui Neighborhood Park at 750 Kaha Street in Kailua.
URL:https://dlnr.hawaii.gov/dofaw/event/kaha-native-plant-garden-volunteer-day/2025-05-17/
CATEGORIES:Volunteer Events
END:VEVENT
BEGIN:VEVENT
DTSTART;TZID=Pacific/Honolulu:20250509T090000
DTEND;TZID=Pacific/Honolulu:20250509T120000
DTSTAMP:20260419T142321
CREATED:20250130T214310Z
LAST-MODIFIED:20250130T214310Z
UID:10001988-1746781200-1746792000@dlnr.hawaii.gov
SUMMARY:Kaha Native Plant Garden Volunteer Day
DESCRIPTION:This event is from a partner in the Year of Our Community Forests. Visit their website for details. \nKaha Garden is maintained solely by community volunteers. Since 2009\, volunteers have committed over 9000 hours of their time to the maintenance of the garden and donations from community members have allowed Hui o Ko’olaupoko to purchase gardening supplies and additional plants. Volunteers at Kaha Garden are taught to identify the native plants\, learn their growing patterns\, how to properly propagate\, and where to plant different species to maximize their ecological benefits. \nYou can contact us to schedule a personalized class field trip or private group workday \nKaha Garden is located within Kawainui Neighborhood Park at 750 Kaha Street in Kailua.
URL:https://dlnr.hawaii.gov/dofaw/event/kaha-native-plant-garden-volunteer-day/2025-05-09/
CATEGORIES:Volunteer Events
END:VEVENT
BEGIN:VEVENT
DTSTART;TZID=Pacific/Honolulu:20250426T090000
DTEND;TZID=Pacific/Honolulu:20250426T120000
DTSTAMP:20260419T142321
CREATED:20250130T214310Z
LAST-MODIFIED:20250130T214310Z
UID:10001987-1745658000-1745668800@dlnr.hawaii.gov
SUMMARY:Kaha Native Plant Garden Volunteer Day
DESCRIPTION:This event is from a partner in the Year of Our Community Forests. Visit their website for details. \nKaha Garden is maintained solely by community volunteers. Since 2009\, volunteers have committed over 9000 hours of their time to the maintenance of the garden and donations from community members have allowed Hui o Ko’olaupoko to purchase gardening supplies and additional plants. Volunteers at Kaha Garden are taught to identify the native plants\, learn their growing patterns\, how to properly propagate\, and where to plant different species to maximize their ecological benefits. \nYou can contact us to schedule a personalized class field trip or private group workday \nKaha Garden is located within Kawainui Neighborhood Park at 750 Kaha Street in Kailua.
URL:https://dlnr.hawaii.gov/dofaw/event/kaha-native-plant-garden-volunteer-day/2025-04-26/
CATEGORIES:Volunteer Events
END:VEVENT
BEGIN:VEVENT
DTSTART;TZID=Pacific/Honolulu:20250425T090000
DTEND;TZID=Pacific/Honolulu:20250425T120000
DTSTAMP:20260419T142321
CREATED:20250130T214310Z
LAST-MODIFIED:20250130T214310Z
UID:10001986-1745571600-1745582400@dlnr.hawaii.gov
SUMMARY:Kaha Native Plant Garden Volunteer Day
DESCRIPTION:This event is from a partner in the Year of Our Community Forests. Visit their website for details. \nKaha Garden is maintained solely by community volunteers. Since 2009\, volunteers have committed over 9000 hours of their time to the maintenance of the garden and donations from community members have allowed Hui o Ko’olaupoko to purchase gardening supplies and additional plants. Volunteers at Kaha Garden are taught to identify the native plants\, learn their growing patterns\, how to properly propagate\, and where to plant different species to maximize their ecological benefits. \nYou can contact us to schedule a personalized class field trip or private group workday \nKaha Garden is located within Kawainui Neighborhood Park at 750 Kaha Street in Kailua.
URL:https://dlnr.hawaii.gov/dofaw/event/kaha-native-plant-garden-volunteer-day/2025-04-25/
CATEGORIES:Volunteer Events
END:VEVENT
BEGIN:VEVENT
DTSTART;TZID=Pacific/Honolulu:20250411T090000
DTEND;TZID=Pacific/Honolulu:20250411T120000
DTSTAMP:20260419T142321
CREATED:20250130T214310Z
LAST-MODIFIED:20250130T214310Z
UID:10001985-1744362000-1744372800@dlnr.hawaii.gov
SUMMARY:Kaha Native Plant Garden Volunteer Day
DESCRIPTION:This event is from a partner in the Year of Our Community Forests. Visit their website for details. \nKaha Garden is maintained solely by community volunteers. Since 2009\, volunteers have committed over 9000 hours of their time to the maintenance of the garden and donations from community members have allowed Hui o Ko’olaupoko to purchase gardening supplies and additional plants. Volunteers at Kaha Garden are taught to identify the native plants\, learn their growing patterns\, how to properly propagate\, and where to plant different species to maximize their ecological benefits. \nYou can contact us to schedule a personalized class field trip or private group workday \nKaha Garden is located within Kawainui Neighborhood Park at 750 Kaha Street in Kailua.
URL:https://dlnr.hawaii.gov/dofaw/event/kaha-native-plant-garden-volunteer-day/2025-04-11/
CATEGORIES:Volunteer Events
END:VEVENT
BEGIN:VEVENT
DTSTART;TZID=Pacific/Honolulu:20250322T090000
DTEND;TZID=Pacific/Honolulu:20250322T120000
DTSTAMP:20260419T142321
CREATED:20250130T214310Z
LAST-MODIFIED:20250130T214310Z
UID:10001984-1742634000-1742644800@dlnr.hawaii.gov
SUMMARY:Kaha Native Plant Garden Volunteer Day
DESCRIPTION:This event is from a partner in the Year of Our Community Forests. Visit their website for details. \nKaha Garden is maintained solely by community volunteers. Since 2009\, volunteers have committed over 9000 hours of their time to the maintenance of the garden and donations from community members have allowed Hui o Ko’olaupoko to purchase gardening supplies and additional plants. Volunteers at Kaha Garden are taught to identify the native plants\, learn their growing patterns\, how to properly propagate\, and where to plant different species to maximize their ecological benefits. \nYou can contact us to schedule a personalized class field trip or private group workday \nKaha Garden is located within Kawainui Neighborhood Park at 750 Kaha Street in Kailua.
URL:https://dlnr.hawaii.gov/dofaw/event/kaha-native-plant-garden-volunteer-day/2025-03-22/
CATEGORIES:Volunteer Events
END:VEVENT
BEGIN:VEVENT
DTSTART;TZID=Pacific/Honolulu:20250321T090000
DTEND;TZID=Pacific/Honolulu:20250321T120000
DTSTAMP:20260419T142321
CREATED:20250130T214310Z
LAST-MODIFIED:20250130T214310Z
UID:10001983-1742547600-1742558400@dlnr.hawaii.gov
SUMMARY:Kaha Native Plant Garden Volunteer Day
DESCRIPTION:This event is from a partner in the Year of Our Community Forests. Visit their website for details. \nKaha Garden is maintained solely by community volunteers. Since 2009\, volunteers have committed over 9000 hours of their time to the maintenance of the garden and donations from community members have allowed Hui o Ko’olaupoko to purchase gardening supplies and additional plants. Volunteers at Kaha Garden are taught to identify the native plants\, learn their growing patterns\, how to properly propagate\, and where to plant different species to maximize their ecological benefits. \nYou can contact us to schedule a personalized class field trip or private group workday \nKaha Garden is located within Kawainui Neighborhood Park at 750 Kaha Street in Kailua.
URL:https://dlnr.hawaii.gov/dofaw/event/kaha-native-plant-garden-volunteer-day/2025-03-21/
CATEGORIES:Volunteer Events
END:VEVENT
BEGIN:VEVENT
DTSTART;TZID=Pacific/Honolulu:20250307T090000
DTEND;TZID=Pacific/Honolulu:20250307T120000
DTSTAMP:20260419T142321
CREATED:20250130T214310Z
LAST-MODIFIED:20250130T214310Z
UID:10001982-1741338000-1741348800@dlnr.hawaii.gov
SUMMARY:Kaha Native Plant Garden Volunteer Day
DESCRIPTION:This event is from a partner in the Year of Our Community Forests. Visit their website for details. \nKaha Garden is maintained solely by community volunteers. Since 2009\, volunteers have committed over 9000 hours of their time to the maintenance of the garden and donations from community members have allowed Hui o Ko’olaupoko to purchase gardening supplies and additional plants. Volunteers at Kaha Garden are taught to identify the native plants\, learn their growing patterns\, how to properly propagate\, and where to plant different species to maximize their ecological benefits. \nYou can contact us to schedule a personalized class field trip or private group workday \nKaha Garden is located within Kawainui Neighborhood Park at 750 Kaha Street in Kailua.
URL:https://dlnr.hawaii.gov/dofaw/event/kaha-native-plant-garden-volunteer-day/2025-03-07/
CATEGORIES:Volunteer Events
END:VEVENT
BEGIN:VEVENT
DTSTART;TZID=Pacific/Honolulu:20250222T090000
DTEND;TZID=Pacific/Honolulu:20250222T120000
DTSTAMP:20260419T142321
CREATED:20250130T214310Z
LAST-MODIFIED:20250130T214310Z
UID:10001981-1740214800-1740225600@dlnr.hawaii.gov
SUMMARY:Kaha Native Plant Garden Volunteer Day
DESCRIPTION:This event is from a partner in the Year of Our Community Forests. Visit their website for details. \nKaha Garden is maintained solely by community volunteers. Since 2009\, volunteers have committed over 9000 hours of their time to the maintenance of the garden and donations from community members have allowed Hui o Ko’olaupoko to purchase gardening supplies and additional plants. Volunteers at Kaha Garden are taught to identify the native plants\, learn their growing patterns\, how to properly propagate\, and where to plant different species to maximize their ecological benefits. \nYou can contact us to schedule a personalized class field trip or private group workday \nKaha Garden is located within Kawainui Neighborhood Park at 750 Kaha Street in Kailua.
URL:https://dlnr.hawaii.gov/dofaw/event/kaha-native-plant-garden-volunteer-day/2025-02-22/
CATEGORIES:Volunteer Events
END:VEVENT
BEGIN:VEVENT
DTSTART;TZID=Pacific/Honolulu:20250221T090000
DTEND;TZID=Pacific/Honolulu:20250221T120000
DTSTAMP:20260419T142321
CREATED:20250130T214310Z
LAST-MODIFIED:20250130T214310Z
UID:10001980-1740128400-1740139200@dlnr.hawaii.gov
SUMMARY:Kaha Native Plant Garden Volunteer Day
DESCRIPTION:This event is from a partner in the Year of Our Community Forests. Visit their website for details. \nKaha Garden is maintained solely by community volunteers. Since 2009\, volunteers have committed over 9000 hours of their time to the maintenance of the garden and donations from community members have allowed Hui o Ko’olaupoko to purchase gardening supplies and additional plants. Volunteers at Kaha Garden are taught to identify the native plants\, learn their growing patterns\, how to properly propagate\, and where to plant different species to maximize their ecological benefits. \nYou can contact us to schedule a personalized class field trip or private group workday \nKaha Garden is located within Kawainui Neighborhood Park at 750 Kaha Street in Kailua.
URL:https://dlnr.hawaii.gov/dofaw/event/kaha-native-plant-garden-volunteer-day/2025-02-21/
CATEGORIES:Volunteer Events
END:VEVENT
BEGIN:VEVENT
DTSTART;TZID=Pacific/Honolulu:20250207T090000
DTEND;TZID=Pacific/Honolulu:20250207T120000
DTSTAMP:20260419T142321
CREATED:20250130T214310Z
LAST-MODIFIED:20250130T214310Z
UID:10001979-1738918800-1738929600@dlnr.hawaii.gov
SUMMARY:Kaha Native Plant Garden Volunteer Day
DESCRIPTION:This event is from a partner in the Year of Our Community Forests. Visit their website for details. \nKaha Garden is maintained solely by community volunteers. Since 2009\, volunteers have committed over 9000 hours of their time to the maintenance of the garden and donations from community members have allowed Hui o Ko’olaupoko to purchase gardening supplies and additional plants. Volunteers at Kaha Garden are taught to identify the native plants\, learn their growing patterns\, how to properly propagate\, and where to plant different species to maximize their ecological benefits. \nYou can contact us to schedule a personalized class field trip or private group workday \nKaha Garden is located within Kawainui Neighborhood Park at 750 Kaha Street in Kailua.
URL:https://dlnr.hawaii.gov/dofaw/event/kaha-native-plant-garden-volunteer-day/2025-02-07/
CATEGORIES:Volunteer Events
END:VEVENT
END:VCALENDAR