BEGIN:VCALENDAR
VERSION:2.0
PRODID:-//Division of Forestry and Wildlife - ECPv6.15.20//NONSGML v1.0//EN
CALSCALE:GREGORIAN
METHOD:PUBLISH
X-WR-CALNAME:Division of Forestry and Wildlife
X-ORIGINAL-URL:https://dlnr.hawaii.gov/dofaw
X-WR-CALDESC:Events for Division of Forestry and Wildlife
REFRESH-INTERVAL;VALUE=DURATION:PT1H
X-Robots-Tag:noindex
X-PUBLISHED-TTL:PT1H
BEGIN:VTIMEZONE
TZID:Pacific/Honolulu
BEGIN:STANDARD
TZOFFSETFROM:-1000
TZOFFSETTO:-1000
TZNAME:HST
DTSTART:20240101T000000
END:STANDARD
END:VTIMEZONE
BEGIN:VEVENT
DTSTART;TZID=Pacific/Honolulu:20250810T100000
DTEND;TZID=Pacific/Honolulu:20250810T140000
DTSTAMP:20260419T142446
CREATED:20250131T004004Z
LAST-MODIFIED:20250131T004004Z
UID:10002107-1754820000-1754834400@dlnr.hawaii.gov
SUMMARY:Windward Mall Farmers Market
DESCRIPTION:This is a partner event for Year of Our Community Forests. Visit their website for details. \n  \nCome Walaau about Laau!\nFarmers Market Schedule  \nWindward Mall Farmers Market\nNative Plants\, Herbs and Seeds & Keiki Korner\n46-056 Kamehameha Hwy\, Kaneohe\, HI 96744-Free parking & admission\n* Every Sundays 10am – 2pm  / Downstairs near Keiki Playground
URL:https://dlnr.hawaii.gov/dofaw/event/windward-mall-farmers-market/2025-08-10/
CATEGORIES:Community Events
END:VEVENT
BEGIN:VEVENT
DTSTART;TZID=Pacific/Honolulu:20250803T100000
DTEND;TZID=Pacific/Honolulu:20250803T140000
DTSTAMP:20260419T142446
CREATED:20250131T004004Z
LAST-MODIFIED:20250131T004004Z
UID:10002106-1754215200-1754229600@dlnr.hawaii.gov
SUMMARY:Windward Mall Farmers Market
DESCRIPTION:This is a partner event for Year of Our Community Forests. Visit their website for details. \n  \nCome Walaau about Laau!\nFarmers Market Schedule  \nWindward Mall Farmers Market\nNative Plants\, Herbs and Seeds & Keiki Korner\n46-056 Kamehameha Hwy\, Kaneohe\, HI 96744-Free parking & admission\n* Every Sundays 10am – 2pm  / Downstairs near Keiki Playground
URL:https://dlnr.hawaii.gov/dofaw/event/windward-mall-farmers-market/2025-08-03/
CATEGORIES:Community Events
END:VEVENT
BEGIN:VEVENT
DTSTART;TZID=Pacific/Honolulu:20250727T100000
DTEND;TZID=Pacific/Honolulu:20250727T140000
DTSTAMP:20260419T142446
CREATED:20250131T004004Z
LAST-MODIFIED:20250131T004004Z
UID:10002105-1753610400-1753624800@dlnr.hawaii.gov
SUMMARY:Windward Mall Farmers Market
DESCRIPTION:This is a partner event for Year of Our Community Forests. Visit their website for details. \n  \nCome Walaau about Laau!\nFarmers Market Schedule  \nWindward Mall Farmers Market\nNative Plants\, Herbs and Seeds & Keiki Korner\n46-056 Kamehameha Hwy\, Kaneohe\, HI 96744-Free parking & admission\n* Every Sundays 10am – 2pm  / Downstairs near Keiki Playground
URL:https://dlnr.hawaii.gov/dofaw/event/windward-mall-farmers-market/2025-07-27/
CATEGORIES:Community Events
END:VEVENT
BEGIN:VEVENT
DTSTART;TZID=Pacific/Honolulu:20250720T100000
DTEND;TZID=Pacific/Honolulu:20250720T140000
DTSTAMP:20260419T142446
CREATED:20250131T004004Z
LAST-MODIFIED:20250131T004004Z
UID:10002104-1753005600-1753020000@dlnr.hawaii.gov
SUMMARY:Windward Mall Farmers Market
DESCRIPTION:This is a partner event for Year of Our Community Forests. Visit their website for details. \n  \nCome Walaau about Laau!\nFarmers Market Schedule  \nWindward Mall Farmers Market\nNative Plants\, Herbs and Seeds & Keiki Korner\n46-056 Kamehameha Hwy\, Kaneohe\, HI 96744-Free parking & admission\n* Every Sundays 10am – 2pm  / Downstairs near Keiki Playground
URL:https://dlnr.hawaii.gov/dofaw/event/windward-mall-farmers-market/2025-07-20/
CATEGORIES:Community Events
END:VEVENT
BEGIN:VEVENT
DTSTART;TZID=Pacific/Honolulu:20250713T100000
DTEND;TZID=Pacific/Honolulu:20250713T140000
DTSTAMP:20260419T142446
CREATED:20250131T004004Z
LAST-MODIFIED:20250131T004004Z
UID:10002103-1752400800-1752415200@dlnr.hawaii.gov
SUMMARY:Windward Mall Farmers Market
DESCRIPTION:This is a partner event for Year of Our Community Forests. Visit their website for details. \n  \nCome Walaau about Laau!\nFarmers Market Schedule  \nWindward Mall Farmers Market\nNative Plants\, Herbs and Seeds & Keiki Korner\n46-056 Kamehameha Hwy\, Kaneohe\, HI 96744-Free parking & admission\n* Every Sundays 10am – 2pm  / Downstairs near Keiki Playground
URL:https://dlnr.hawaii.gov/dofaw/event/windward-mall-farmers-market/2025-07-13/
CATEGORIES:Community Events
END:VEVENT
BEGIN:VEVENT
DTSTART;TZID=Pacific/Honolulu:20250706T100000
DTEND;TZID=Pacific/Honolulu:20250706T140000
DTSTAMP:20260419T142446
CREATED:20250131T004004Z
LAST-MODIFIED:20250131T004004Z
UID:10002102-1751796000-1751810400@dlnr.hawaii.gov
SUMMARY:Windward Mall Farmers Market
DESCRIPTION:This is a partner event for Year of Our Community Forests. Visit their website for details. \n  \nCome Walaau about Laau!\nFarmers Market Schedule  \nWindward Mall Farmers Market\nNative Plants\, Herbs and Seeds & Keiki Korner\n46-056 Kamehameha Hwy\, Kaneohe\, HI 96744-Free parking & admission\n* Every Sundays 10am – 2pm  / Downstairs near Keiki Playground
URL:https://dlnr.hawaii.gov/dofaw/event/windward-mall-farmers-market/2025-07-06/
CATEGORIES:Community Events
END:VEVENT
BEGIN:VEVENT
DTSTART;TZID=Pacific/Honolulu:20250629T100000
DTEND;TZID=Pacific/Honolulu:20250629T140000
DTSTAMP:20260419T142446
CREATED:20250131T004004Z
LAST-MODIFIED:20250131T004004Z
UID:10002101-1751191200-1751205600@dlnr.hawaii.gov
SUMMARY:Windward Mall Farmers Market
DESCRIPTION:This is a partner event for Year of Our Community Forests. Visit their website for details. \n  \nCome Walaau about Laau!\nFarmers Market Schedule  \nWindward Mall Farmers Market\nNative Plants\, Herbs and Seeds & Keiki Korner\n46-056 Kamehameha Hwy\, Kaneohe\, HI 96744-Free parking & admission\n* Every Sundays 10am – 2pm  / Downstairs near Keiki Playground
URL:https://dlnr.hawaii.gov/dofaw/event/windward-mall-farmers-market/2025-06-29/
CATEGORIES:Community Events
END:VEVENT
BEGIN:VEVENT
DTSTART;TZID=Pacific/Honolulu:20250622T100000
DTEND;TZID=Pacific/Honolulu:20250622T140000
DTSTAMP:20260419T142446
CREATED:20250131T004004Z
LAST-MODIFIED:20250131T004004Z
UID:10002100-1750586400-1750600800@dlnr.hawaii.gov
SUMMARY:Windward Mall Farmers Market
DESCRIPTION:This is a partner event for Year of Our Community Forests. Visit their website for details. \n  \nCome Walaau about Laau!\nFarmers Market Schedule  \nWindward Mall Farmers Market\nNative Plants\, Herbs and Seeds & Keiki Korner\n46-056 Kamehameha Hwy\, Kaneohe\, HI 96744-Free parking & admission\n* Every Sundays 10am – 2pm  / Downstairs near Keiki Playground
URL:https://dlnr.hawaii.gov/dofaw/event/windward-mall-farmers-market/2025-06-22/
CATEGORIES:Community Events
END:VEVENT
BEGIN:VEVENT
DTSTART;TZID=Pacific/Honolulu:20250615T100000
DTEND;TZID=Pacific/Honolulu:20250615T140000
DTSTAMP:20260419T142446
CREATED:20250131T004004Z
LAST-MODIFIED:20250131T004004Z
UID:10002099-1749981600-1749996000@dlnr.hawaii.gov
SUMMARY:Windward Mall Farmers Market
DESCRIPTION:This is a partner event for Year of Our Community Forests. Visit their website for details. \n  \nCome Walaau about Laau!\nFarmers Market Schedule  \nWindward Mall Farmers Market\nNative Plants\, Herbs and Seeds & Keiki Korner\n46-056 Kamehameha Hwy\, Kaneohe\, HI 96744-Free parking & admission\n* Every Sundays 10am – 2pm  / Downstairs near Keiki Playground
URL:https://dlnr.hawaii.gov/dofaw/event/windward-mall-farmers-market/2025-06-15/
CATEGORIES:Community Events
END:VEVENT
BEGIN:VEVENT
DTSTART;TZID=Pacific/Honolulu:20250608T100000
DTEND;TZID=Pacific/Honolulu:20250608T140000
DTSTAMP:20260419T142446
CREATED:20250131T004004Z
LAST-MODIFIED:20250131T004004Z
UID:10002098-1749376800-1749391200@dlnr.hawaii.gov
SUMMARY:Windward Mall Farmers Market
DESCRIPTION:This is a partner event for Year of Our Community Forests. Visit their website for details. \n  \nCome Walaau about Laau!\nFarmers Market Schedule  \nWindward Mall Farmers Market\nNative Plants\, Herbs and Seeds & Keiki Korner\n46-056 Kamehameha Hwy\, Kaneohe\, HI 96744-Free parking & admission\n* Every Sundays 10am – 2pm  / Downstairs near Keiki Playground
URL:https://dlnr.hawaii.gov/dofaw/event/windward-mall-farmers-market/2025-06-08/
CATEGORIES:Community Events
END:VEVENT
BEGIN:VEVENT
DTSTART;TZID=Pacific/Honolulu:20250601T100000
DTEND;TZID=Pacific/Honolulu:20250601T140000
DTSTAMP:20260419T142446
CREATED:20250131T004004Z
LAST-MODIFIED:20250131T004004Z
UID:10002097-1748772000-1748786400@dlnr.hawaii.gov
SUMMARY:Windward Mall Farmers Market
DESCRIPTION:This is a partner event for Year of Our Community Forests. Visit their website for details. \n  \nCome Walaau about Laau!\nFarmers Market Schedule  \nWindward Mall Farmers Market\nNative Plants\, Herbs and Seeds & Keiki Korner\n46-056 Kamehameha Hwy\, Kaneohe\, HI 96744-Free parking & admission\n* Every Sundays 10am – 2pm  / Downstairs near Keiki Playground
URL:https://dlnr.hawaii.gov/dofaw/event/windward-mall-farmers-market/2025-06-01/
CATEGORIES:Community Events
END:VEVENT
BEGIN:VEVENT
DTSTART;TZID=Pacific/Honolulu:20250525T100000
DTEND;TZID=Pacific/Honolulu:20250525T140000
DTSTAMP:20260419T142446
CREATED:20250131T004004Z
LAST-MODIFIED:20250131T004004Z
UID:10002096-1748167200-1748181600@dlnr.hawaii.gov
SUMMARY:Windward Mall Farmers Market
DESCRIPTION:This is a partner event for Year of Our Community Forests. Visit their website for details. \n  \nCome Walaau about Laau!\nFarmers Market Schedule  \nWindward Mall Farmers Market\nNative Plants\, Herbs and Seeds & Keiki Korner\n46-056 Kamehameha Hwy\, Kaneohe\, HI 96744-Free parking & admission\n* Every Sundays 10am – 2pm  / Downstairs near Keiki Playground
URL:https://dlnr.hawaii.gov/dofaw/event/windward-mall-farmers-market/2025-05-25/
CATEGORIES:Community Events
END:VEVENT
BEGIN:VEVENT
DTSTART;TZID=Pacific/Honolulu:20250518T100000
DTEND;TZID=Pacific/Honolulu:20250518T140000
DTSTAMP:20260419T142446
CREATED:20250131T004004Z
LAST-MODIFIED:20250131T004004Z
UID:10002095-1747562400-1747576800@dlnr.hawaii.gov
SUMMARY:Windward Mall Farmers Market
DESCRIPTION:This is a partner event for Year of Our Community Forests. Visit their website for details. \n  \nCome Walaau about Laau!\nFarmers Market Schedule  \nWindward Mall Farmers Market\nNative Plants\, Herbs and Seeds & Keiki Korner\n46-056 Kamehameha Hwy\, Kaneohe\, HI 96744-Free parking & admission\n* Every Sundays 10am – 2pm  / Downstairs near Keiki Playground
URL:https://dlnr.hawaii.gov/dofaw/event/windward-mall-farmers-market/2025-05-18/
CATEGORIES:Community Events
END:VEVENT
BEGIN:VEVENT
DTSTART;TZID=Pacific/Honolulu:20250511T100000
DTEND;TZID=Pacific/Honolulu:20250511T140000
DTSTAMP:20260419T142446
CREATED:20250131T004004Z
LAST-MODIFIED:20250131T004004Z
UID:10002094-1746957600-1746972000@dlnr.hawaii.gov
SUMMARY:Windward Mall Farmers Market
DESCRIPTION:This is a partner event for Year of Our Community Forests. Visit their website for details. \n  \nCome Walaau about Laau!\nFarmers Market Schedule  \nWindward Mall Farmers Market\nNative Plants\, Herbs and Seeds & Keiki Korner\n46-056 Kamehameha Hwy\, Kaneohe\, HI 96744-Free parking & admission\n* Every Sundays 10am – 2pm  / Downstairs near Keiki Playground
URL:https://dlnr.hawaii.gov/dofaw/event/windward-mall-farmers-market/2025-05-11/
CATEGORIES:Community Events
END:VEVENT
BEGIN:VEVENT
DTSTART;TZID=Pacific/Honolulu:20250504T100000
DTEND;TZID=Pacific/Honolulu:20250504T140000
DTSTAMP:20260419T142446
CREATED:20250131T004004Z
LAST-MODIFIED:20250131T004004Z
UID:10002093-1746352800-1746367200@dlnr.hawaii.gov
SUMMARY:Windward Mall Farmers Market
DESCRIPTION:This is a partner event for Year of Our Community Forests. Visit their website for details. \n  \nCome Walaau about Laau!\nFarmers Market Schedule  \nWindward Mall Farmers Market\nNative Plants\, Herbs and Seeds & Keiki Korner\n46-056 Kamehameha Hwy\, Kaneohe\, HI 96744-Free parking & admission\n* Every Sundays 10am – 2pm  / Downstairs near Keiki Playground
URL:https://dlnr.hawaii.gov/dofaw/event/windward-mall-farmers-market/2025-05-04/
CATEGORIES:Community Events
END:VEVENT
BEGIN:VEVENT
DTSTART;TZID=Pacific/Honolulu:20250427T100000
DTEND;TZID=Pacific/Honolulu:20250427T140000
DTSTAMP:20260419T142446
CREATED:20250131T004004Z
LAST-MODIFIED:20250131T004004Z
UID:10002092-1745748000-1745762400@dlnr.hawaii.gov
SUMMARY:Windward Mall Farmers Market
DESCRIPTION:This is a partner event for Year of Our Community Forests. Visit their website for details. \n  \nCome Walaau about Laau!\nFarmers Market Schedule  \nWindward Mall Farmers Market\nNative Plants\, Herbs and Seeds & Keiki Korner\n46-056 Kamehameha Hwy\, Kaneohe\, HI 96744-Free parking & admission\n* Every Sundays 10am – 2pm  / Downstairs near Keiki Playground
URL:https://dlnr.hawaii.gov/dofaw/event/windward-mall-farmers-market/2025-04-27/
CATEGORIES:Community Events
END:VEVENT
BEGIN:VEVENT
DTSTART;TZID=Pacific/Honolulu:20250420T100000
DTEND;TZID=Pacific/Honolulu:20250420T140000
DTSTAMP:20260419T142446
CREATED:20250131T004004Z
LAST-MODIFIED:20250131T004004Z
UID:10002091-1745143200-1745157600@dlnr.hawaii.gov
SUMMARY:Windward Mall Farmers Market
DESCRIPTION:This is a partner event for Year of Our Community Forests. Visit their website for details. \n  \nCome Walaau about Laau!\nFarmers Market Schedule  \nWindward Mall Farmers Market\nNative Plants\, Herbs and Seeds & Keiki Korner\n46-056 Kamehameha Hwy\, Kaneohe\, HI 96744-Free parking & admission\n* Every Sundays 10am – 2pm  / Downstairs near Keiki Playground
URL:https://dlnr.hawaii.gov/dofaw/event/windward-mall-farmers-market/2025-04-20/
CATEGORIES:Community Events
END:VEVENT
BEGIN:VEVENT
DTSTART;TZID=Pacific/Honolulu:20250413T100000
DTEND;TZID=Pacific/Honolulu:20250413T140000
DTSTAMP:20260419T142446
CREATED:20250131T004004Z
LAST-MODIFIED:20250131T004004Z
UID:10002090-1744538400-1744552800@dlnr.hawaii.gov
SUMMARY:Windward Mall Farmers Market
DESCRIPTION:This is a partner event for Year of Our Community Forests. Visit their website for details. \n  \nCome Walaau about Laau!\nFarmers Market Schedule  \nWindward Mall Farmers Market\nNative Plants\, Herbs and Seeds & Keiki Korner\n46-056 Kamehameha Hwy\, Kaneohe\, HI 96744-Free parking & admission\n* Every Sundays 10am – 2pm  / Downstairs near Keiki Playground
URL:https://dlnr.hawaii.gov/dofaw/event/windward-mall-farmers-market/2025-04-13/
CATEGORIES:Community Events
END:VEVENT
BEGIN:VEVENT
DTSTART;TZID=Pacific/Honolulu:20250406T100000
DTEND;TZID=Pacific/Honolulu:20250406T140000
DTSTAMP:20260419T142446
CREATED:20250131T004004Z
LAST-MODIFIED:20250131T004004Z
UID:10002089-1743933600-1743948000@dlnr.hawaii.gov
SUMMARY:Windward Mall Farmers Market
DESCRIPTION:This is a partner event for Year of Our Community Forests. Visit their website for details. \n  \nCome Walaau about Laau!\nFarmers Market Schedule  \nWindward Mall Farmers Market\nNative Plants\, Herbs and Seeds & Keiki Korner\n46-056 Kamehameha Hwy\, Kaneohe\, HI 96744-Free parking & admission\n* Every Sundays 10am – 2pm  / Downstairs near Keiki Playground
URL:https://dlnr.hawaii.gov/dofaw/event/windward-mall-farmers-market/2025-04-06/
CATEGORIES:Community Events
END:VEVENT
BEGIN:VEVENT
DTSTART;TZID=Pacific/Honolulu:20250330T100000
DTEND;TZID=Pacific/Honolulu:20250330T140000
DTSTAMP:20260419T142446
CREATED:20250131T004004Z
LAST-MODIFIED:20250131T004004Z
UID:10002088-1743328800-1743343200@dlnr.hawaii.gov
SUMMARY:Windward Mall Farmers Market
DESCRIPTION:This is a partner event for Year of Our Community Forests. Visit their website for details. \n  \nCome Walaau about Laau!\nFarmers Market Schedule  \nWindward Mall Farmers Market\nNative Plants\, Herbs and Seeds & Keiki Korner\n46-056 Kamehameha Hwy\, Kaneohe\, HI 96744-Free parking & admission\n* Every Sundays 10am – 2pm  / Downstairs near Keiki Playground
URL:https://dlnr.hawaii.gov/dofaw/event/windward-mall-farmers-market/2025-03-30/
CATEGORIES:Community Events
END:VEVENT
BEGIN:VEVENT
DTSTART;TZID=Pacific/Honolulu:20250323T100000
DTEND;TZID=Pacific/Honolulu:20250323T140000
DTSTAMP:20260419T142446
CREATED:20250131T004004Z
LAST-MODIFIED:20250131T004004Z
UID:10002087-1742724000-1742738400@dlnr.hawaii.gov
SUMMARY:Windward Mall Farmers Market
DESCRIPTION:This is a partner event for Year of Our Community Forests. Visit their website for details. \n  \nCome Walaau about Laau!\nFarmers Market Schedule  \nWindward Mall Farmers Market\nNative Plants\, Herbs and Seeds & Keiki Korner\n46-056 Kamehameha Hwy\, Kaneohe\, HI 96744-Free parking & admission\n* Every Sundays 10am – 2pm  / Downstairs near Keiki Playground
URL:https://dlnr.hawaii.gov/dofaw/event/windward-mall-farmers-market/2025-03-23/
CATEGORIES:Community Events
END:VEVENT
BEGIN:VEVENT
DTSTART;TZID=Pacific/Honolulu:20250316T100000
DTEND;TZID=Pacific/Honolulu:20250316T140000
DTSTAMP:20260419T142446
CREATED:20250131T004004Z
LAST-MODIFIED:20250131T004004Z
UID:10002086-1742119200-1742133600@dlnr.hawaii.gov
SUMMARY:Windward Mall Farmers Market
DESCRIPTION:This is a partner event for Year of Our Community Forests. Visit their website for details. \n  \nCome Walaau about Laau!\nFarmers Market Schedule  \nWindward Mall Farmers Market\nNative Plants\, Herbs and Seeds & Keiki Korner\n46-056 Kamehameha Hwy\, Kaneohe\, HI 96744-Free parking & admission\n* Every Sundays 10am – 2pm  / Downstairs near Keiki Playground
URL:https://dlnr.hawaii.gov/dofaw/event/windward-mall-farmers-market/2025-03-16/
CATEGORIES:Community Events
END:VEVENT
BEGIN:VEVENT
DTSTART;TZID=Pacific/Honolulu:20250309T100000
DTEND;TZID=Pacific/Honolulu:20250309T140000
DTSTAMP:20260419T142446
CREATED:20250131T004004Z
LAST-MODIFIED:20250131T004004Z
UID:10002085-1741514400-1741528800@dlnr.hawaii.gov
SUMMARY:Windward Mall Farmers Market
DESCRIPTION:This is a partner event for Year of Our Community Forests. Visit their website for details. \n  \nCome Walaau about Laau!\nFarmers Market Schedule  \nWindward Mall Farmers Market\nNative Plants\, Herbs and Seeds & Keiki Korner\n46-056 Kamehameha Hwy\, Kaneohe\, HI 96744-Free parking & admission\n* Every Sundays 10am – 2pm  / Downstairs near Keiki Playground
URL:https://dlnr.hawaii.gov/dofaw/event/windward-mall-farmers-market/2025-03-09/
CATEGORIES:Community Events
END:VEVENT
BEGIN:VEVENT
DTSTART;TZID=Pacific/Honolulu:20250302T100000
DTEND;TZID=Pacific/Honolulu:20250302T140000
DTSTAMP:20260419T142446
CREATED:20250131T004004Z
LAST-MODIFIED:20250131T004004Z
UID:10002084-1740909600-1740924000@dlnr.hawaii.gov
SUMMARY:Windward Mall Farmers Market
DESCRIPTION:This is a partner event for Year of Our Community Forests. Visit their website for details. \n  \nCome Walaau about Laau!\nFarmers Market Schedule  \nWindward Mall Farmers Market\nNative Plants\, Herbs and Seeds & Keiki Korner\n46-056 Kamehameha Hwy\, Kaneohe\, HI 96744-Free parking & admission\n* Every Sundays 10am – 2pm  / Downstairs near Keiki Playground
URL:https://dlnr.hawaii.gov/dofaw/event/windward-mall-farmers-market/2025-03-02/
CATEGORIES:Community Events
END:VEVENT
BEGIN:VEVENT
DTSTART;TZID=Pacific/Honolulu:20250223T100000
DTEND;TZID=Pacific/Honolulu:20250223T140000
DTSTAMP:20260419T142446
CREATED:20250131T004004Z
LAST-MODIFIED:20250131T004004Z
UID:10002083-1740304800-1740319200@dlnr.hawaii.gov
SUMMARY:Windward Mall Farmers Market
DESCRIPTION:This is a partner event for Year of Our Community Forests. Visit their website for details. \n  \nCome Walaau about Laau!\nFarmers Market Schedule  \nWindward Mall Farmers Market\nNative Plants\, Herbs and Seeds & Keiki Korner\n46-056 Kamehameha Hwy\, Kaneohe\, HI 96744-Free parking & admission\n* Every Sundays 10am – 2pm  / Downstairs near Keiki Playground
URL:https://dlnr.hawaii.gov/dofaw/event/windward-mall-farmers-market/2025-02-23/
CATEGORIES:Community Events
END:VEVENT
BEGIN:VEVENT
DTSTART;TZID=Pacific/Honolulu:20250216T100000
DTEND;TZID=Pacific/Honolulu:20250216T140000
DTSTAMP:20260419T142446
CREATED:20250131T004004Z
LAST-MODIFIED:20250131T004004Z
UID:10002082-1739700000-1739714400@dlnr.hawaii.gov
SUMMARY:Windward Mall Farmers Market
DESCRIPTION:This is a partner event for Year of Our Community Forests. Visit their website for details. \n  \nCome Walaau about Laau!\nFarmers Market Schedule  \nWindward Mall Farmers Market\nNative Plants\, Herbs and Seeds & Keiki Korner\n46-056 Kamehameha Hwy\, Kaneohe\, HI 96744-Free parking & admission\n* Every Sundays 10am – 2pm  / Downstairs near Keiki Playground
URL:https://dlnr.hawaii.gov/dofaw/event/windward-mall-farmers-market/2025-02-16/
CATEGORIES:Community Events
END:VEVENT
BEGIN:VEVENT
DTSTART;TZID=Pacific/Honolulu:20250209T100000
DTEND;TZID=Pacific/Honolulu:20250209T140000
DTSTAMP:20260419T142446
CREATED:20250131T004004Z
LAST-MODIFIED:20250131T004004Z
UID:10002081-1739095200-1739109600@dlnr.hawaii.gov
SUMMARY:Windward Mall Farmers Market
DESCRIPTION:This is a partner event for Year of Our Community Forests. Visit their website for details. \n  \nCome Walaau about Laau!\nFarmers Market Schedule  \nWindward Mall Farmers Market\nNative Plants\, Herbs and Seeds & Keiki Korner\n46-056 Kamehameha Hwy\, Kaneohe\, HI 96744-Free parking & admission\n* Every Sundays 10am – 2pm  / Downstairs near Keiki Playground
URL:https://dlnr.hawaii.gov/dofaw/event/windward-mall-farmers-market/2025-02-09/
CATEGORIES:Community Events
END:VEVENT
BEGIN:VEVENT
DTSTART;TZID=Pacific/Honolulu:20250202T100000
DTEND;TZID=Pacific/Honolulu:20250202T140000
DTSTAMP:20260419T142446
CREATED:20250131T004004Z
LAST-MODIFIED:20250131T004004Z
UID:10002080-1738490400-1738504800@dlnr.hawaii.gov
SUMMARY:Windward Mall Farmers Market
DESCRIPTION:This is a partner event for Year of Our Community Forests. Visit their website for details. \n  \nCome Walaau about Laau!\nFarmers Market Schedule  \nWindward Mall Farmers Market\nNative Plants\, Herbs and Seeds & Keiki Korner\n46-056 Kamehameha Hwy\, Kaneohe\, HI 96744-Free parking & admission\n* Every Sundays 10am – 2pm  / Downstairs near Keiki Playground
URL:https://dlnr.hawaii.gov/dofaw/event/windward-mall-farmers-market/2025-02-02/
CATEGORIES:Community Events
END:VEVENT
END:VCALENDAR