BEGIN:VCALENDAR
VERSION:2.0
PRODID:-//Division of Forestry and Wildlife - ECPv6.15.20//NONSGML v1.0//EN
CALSCALE:GREGORIAN
METHOD:PUBLISH
X-WR-CALNAME:Division of Forestry and Wildlife
X-ORIGINAL-URL:https://dlnr.hawaii.gov/dofaw
X-WR-CALDESC:Events for Division of Forestry and Wildlife
REFRESH-INTERVAL;VALUE=DURATION:PT1H
X-Robots-Tag:noindex
X-PUBLISHED-TTL:PT1H
BEGIN:VTIMEZONE
TZID:Pacific/Honolulu
BEGIN:STANDARD
TZOFFSETFROM:-1000
TZOFFSETTO:-1000
TZNAME:HST
DTSTART:20240101T000000
END:STANDARD
END:VTIMEZONE
BEGIN:VEVENT
DTSTART;TZID=Pacific/Honolulu:20250327T100000
DTEND;TZID=Pacific/Honolulu:20250327T140000
DTSTAMP:20260421T095552
CREATED:20250131T004255Z
LAST-MODIFIED:20250131T004255Z
UID:10002136-1743069600-1743084000@dlnr.hawaii.gov
SUMMARY:South Shore Aloha Market
DESCRIPTION:This event is from a partner in the Year of Our Community Forests. For details visit their website. \nNational Tropical Botanical Garden \nSouth Shore Visitor Center – 4425 Lawai Rd Koloa\, HI 96756 \nEvery Thursday from 10 a.m. – 2 p.m.\nEverything from fresh fruits and vegetables to noodles\, spices\, sweets\, treats and items like jewelry\, clothing\, art and household and family accessories will be available for purchase — all outdoors\, sold in conditions that follow strict safety and health protocols. \nFREE hula show at 12:30 p.m. during the Aloha Market.
URL:https://dlnr.hawaii.gov/dofaw/event/south-shore-aloha-market/2025-03-27/
CATEGORIES:Community Events
END:VEVENT
BEGIN:VEVENT
DTSTART;TZID=Pacific/Honolulu:20250323T080000
DTEND;TZID=Pacific/Honolulu:20250325T170000
DTSTAMP:20260421T095552
CREATED:20250131T010949Z
LAST-MODIFIED:20250131T010949Z
UID:10002187-1742716800-1742922000@dlnr.hawaii.gov
SUMMARY:XXII Conference of the Heliconia Society International
DESCRIPTION:This event is from the National Tropical Botanical Garden\, a partner in the Year of Our Community Forests. For details\, visit their website. \nXXII Conference of the Heliconia Society International\nMarch 23-25\, 2025 \nUniversity of Hawaiʻi at Mānoa\, Campus Center \nFeaturing Keynote Speaker: W. John Kress\, Research Botanist and Curator Emeritus of the Smithsonian National Museum of Natural History speaking on phylogeny\, classification\, and conservation status of species in the genus Heliconia. \n\n\nMore info
URL:https://dlnr.hawaii.gov/dofaw/event/xxii-conference-of-the-heliconia-society-international/
CATEGORIES:Community Events
END:VEVENT
BEGIN:VEVENT
DTSTART;TZID=Pacific/Honolulu:20250320T100000
DTEND;TZID=Pacific/Honolulu:20250320T140000
DTSTAMP:20260421T095552
CREATED:20250131T004255Z
LAST-MODIFIED:20250131T004255Z
UID:10002135-1742464800-1742479200@dlnr.hawaii.gov
SUMMARY:South Shore Aloha Market
DESCRIPTION:This event is from a partner in the Year of Our Community Forests. For details visit their website. \nNational Tropical Botanical Garden \nSouth Shore Visitor Center – 4425 Lawai Rd Koloa\, HI 96756 \nEvery Thursday from 10 a.m. – 2 p.m.\nEverything from fresh fruits and vegetables to noodles\, spices\, sweets\, treats and items like jewelry\, clothing\, art and household and family accessories will be available for purchase — all outdoors\, sold in conditions that follow strict safety and health protocols. \nFREE hula show at 12:30 p.m. during the Aloha Market.
URL:https://dlnr.hawaii.gov/dofaw/event/south-shore-aloha-market/2025-03-20/
CATEGORIES:Community Events
END:VEVENT
BEGIN:VEVENT
DTSTART;TZID=Pacific/Honolulu:20250313T100000
DTEND;TZID=Pacific/Honolulu:20250313T140000
DTSTAMP:20260421T095552
CREATED:20250131T004255Z
LAST-MODIFIED:20250131T004255Z
UID:10002134-1741860000-1741874400@dlnr.hawaii.gov
SUMMARY:South Shore Aloha Market
DESCRIPTION:This event is from a partner in the Year of Our Community Forests. For details visit their website. \nNational Tropical Botanical Garden \nSouth Shore Visitor Center – 4425 Lawai Rd Koloa\, HI 96756 \nEvery Thursday from 10 a.m. – 2 p.m.\nEverything from fresh fruits and vegetables to noodles\, spices\, sweets\, treats and items like jewelry\, clothing\, art and household and family accessories will be available for purchase — all outdoors\, sold in conditions that follow strict safety and health protocols. \nFREE hula show at 12:30 p.m. during the Aloha Market.
URL:https://dlnr.hawaii.gov/dofaw/event/south-shore-aloha-market/2025-03-13/
CATEGORIES:Community Events
END:VEVENT
BEGIN:VEVENT
DTSTART;TZID=Pacific/Honolulu:20250306T100000
DTEND;TZID=Pacific/Honolulu:20250306T140000
DTSTAMP:20260421T095552
CREATED:20250131T004255Z
LAST-MODIFIED:20250131T004255Z
UID:10002133-1741255200-1741269600@dlnr.hawaii.gov
SUMMARY:South Shore Aloha Market
DESCRIPTION:This event is from a partner in the Year of Our Community Forests. For details visit their website. \nNational Tropical Botanical Garden \nSouth Shore Visitor Center – 4425 Lawai Rd Koloa\, HI 96756 \nEvery Thursday from 10 a.m. – 2 p.m.\nEverything from fresh fruits and vegetables to noodles\, spices\, sweets\, treats and items like jewelry\, clothing\, art and household and family accessories will be available for purchase — all outdoors\, sold in conditions that follow strict safety and health protocols. \nFREE hula show at 12:30 p.m. during the Aloha Market.
URL:https://dlnr.hawaii.gov/dofaw/event/south-shore-aloha-market/2025-03-06/
CATEGORIES:Community Events
END:VEVENT
BEGIN:VEVENT
DTSTART;TZID=Pacific/Honolulu:20250227T100000
DTEND;TZID=Pacific/Honolulu:20250227T140000
DTSTAMP:20260421T095552
CREATED:20250131T004255Z
LAST-MODIFIED:20250131T004255Z
UID:10002132-1740650400-1740664800@dlnr.hawaii.gov
SUMMARY:South Shore Aloha Market
DESCRIPTION:This event is from a partner in the Year of Our Community Forests. For details visit their website. \nNational Tropical Botanical Garden \nSouth Shore Visitor Center – 4425 Lawai Rd Koloa\, HI 96756 \nEvery Thursday from 10 a.m. – 2 p.m.\nEverything from fresh fruits and vegetables to noodles\, spices\, sweets\, treats and items like jewelry\, clothing\, art and household and family accessories will be available for purchase — all outdoors\, sold in conditions that follow strict safety and health protocols. \nFREE hula show at 12:30 p.m. during the Aloha Market.
URL:https://dlnr.hawaii.gov/dofaw/event/south-shore-aloha-market/2025-02-27/
CATEGORIES:Community Events
END:VEVENT
BEGIN:VEVENT
DTSTART;TZID=Pacific/Honolulu:20250220T100000
DTEND;TZID=Pacific/Honolulu:20250220T140000
DTSTAMP:20260421T095552
CREATED:20250131T004255Z
LAST-MODIFIED:20250131T004255Z
UID:10002131-1740045600-1740060000@dlnr.hawaii.gov
SUMMARY:South Shore Aloha Market
DESCRIPTION:This event is from a partner in the Year of Our Community Forests. For details visit their website. \nNational Tropical Botanical Garden \nSouth Shore Visitor Center – 4425 Lawai Rd Koloa\, HI 96756 \nEvery Thursday from 10 a.m. – 2 p.m.\nEverything from fresh fruits and vegetables to noodles\, spices\, sweets\, treats and items like jewelry\, clothing\, art and household and family accessories will be available for purchase — all outdoors\, sold in conditions that follow strict safety and health protocols. \nFREE hula show at 12:30 p.m. during the Aloha Market.
URL:https://dlnr.hawaii.gov/dofaw/event/south-shore-aloha-market/2025-02-20/
CATEGORIES:Community Events
END:VEVENT
BEGIN:VEVENT
DTSTART;TZID=Pacific/Honolulu:20250213T100000
DTEND;TZID=Pacific/Honolulu:20250213T140000
DTSTAMP:20260421T095552
CREATED:20250131T004255Z
LAST-MODIFIED:20250131T004255Z
UID:10002130-1739440800-1739455200@dlnr.hawaii.gov
SUMMARY:South Shore Aloha Market
DESCRIPTION:This event is from a partner in the Year of Our Community Forests. For details visit their website. \nNational Tropical Botanical Garden \nSouth Shore Visitor Center – 4425 Lawai Rd Koloa\, HI 96756 \nEvery Thursday from 10 a.m. – 2 p.m.\nEverything from fresh fruits and vegetables to noodles\, spices\, sweets\, treats and items like jewelry\, clothing\, art and household and family accessories will be available for purchase — all outdoors\, sold in conditions that follow strict safety and health protocols. \nFREE hula show at 12:30 p.m. during the Aloha Market.
URL:https://dlnr.hawaii.gov/dofaw/event/south-shore-aloha-market/2025-02-13/
CATEGORIES:Community Events
END:VEVENT
BEGIN:VEVENT
DTSTART;TZID=Pacific/Honolulu:20250206T100000
DTEND;TZID=Pacific/Honolulu:20250206T140000
DTSTAMP:20260421T095552
CREATED:20250131T004255Z
LAST-MODIFIED:20250131T004255Z
UID:10002129-1738836000-1738850400@dlnr.hawaii.gov
SUMMARY:South Shore Aloha Market
DESCRIPTION:This event is from a partner in the Year of Our Community Forests. For details visit their website. \nNational Tropical Botanical Garden \nSouth Shore Visitor Center – 4425 Lawai Rd Koloa\, HI 96756 \nEvery Thursday from 10 a.m. – 2 p.m.\nEverything from fresh fruits and vegetables to noodles\, spices\, sweets\, treats and items like jewelry\, clothing\, art and household and family accessories will be available for purchase — all outdoors\, sold in conditions that follow strict safety and health protocols. \nFREE hula show at 12:30 p.m. during the Aloha Market.
URL:https://dlnr.hawaii.gov/dofaw/event/south-shore-aloha-market/2025-02-06/
CATEGORIES:Community Events
END:VEVENT
BEGIN:VEVENT
DTSTART;TZID=Pacific/Honolulu:20250130T100000
DTEND;TZID=Pacific/Honolulu:20250130T140000
DTSTAMP:20260421T095552
CREATED:20250131T004255Z
LAST-MODIFIED:20250131T004255Z
UID:10002128-1738231200-1738245600@dlnr.hawaii.gov
SUMMARY:South Shore Aloha Market
DESCRIPTION:This event is from a partner in the Year of Our Community Forests. For details visit their website. \nNational Tropical Botanical Garden \nSouth Shore Visitor Center – 4425 Lawai Rd Koloa\, HI 96756 \nEvery Thursday from 10 a.m. – 2 p.m.\nEverything from fresh fruits and vegetables to noodles\, spices\, sweets\, treats and items like jewelry\, clothing\, art and household and family accessories will be available for purchase — all outdoors\, sold in conditions that follow strict safety and health protocols. \nFREE hula show at 12:30 p.m. during the Aloha Market.
URL:https://dlnr.hawaii.gov/dofaw/event/south-shore-aloha-market/2025-01-30/
CATEGORIES:Community Events
END:VEVENT
END:VCALENDAR