BEGIN:VCALENDAR
VERSION:2.0
PRODID:-//Division of Forestry and Wildlife - ECPv6.15.20//NONSGML v1.0//EN
CALSCALE:GREGORIAN
METHOD:PUBLISH
X-ORIGINAL-URL:https://dlnr.hawaii.gov/dofaw
X-WR-CALDESC:Events for Division of Forestry and Wildlife
REFRESH-INTERVAL;VALUE=DURATION:PT1H
X-Robots-Tag:noindex
X-PUBLISHED-TTL:PT1H
BEGIN:VTIMEZONE
TZID:Pacific/Honolulu
BEGIN:STANDARD
TZOFFSETFROM:-1000
TZOFFSETTO:-1000
TZNAME:HST
DTSTART:20240101T000000
END:STANDARD
END:VTIMEZONE
BEGIN:VEVENT
DTSTART;TZID=Pacific/Honolulu:20251206T090000
DTEND;TZID=Pacific/Honolulu:20251206T113000
DTSTAMP:20260419T161945
CREATED:20250130T184019Z
LAST-MODIFIED:20250512T205221Z
UID:10000290-1765011600-1765020600@dlnr.hawaii.gov
SUMMARY:Kōkua Learning Farm Community Workdays
DESCRIPTION:The information below is from one of our partners for Year of Our Community Forests: \nKōkua Learning Farm Community Workdays take place on the first Saturday of each month! We meet from 9:00am to 11:30am for a morning of light farm work\, education\, and family fun. Projects may include but are not limited to: agroforestry work\, mulching\, weeding\, trimming\, loʻi clearing\, planting\, and harvesting. \n All volunteers must complete our Liability and Media Waiver Form and Register for the Workday using the form below. Please fill out the form for yourself\, and remind anyone planning to attend to also register. Supervised Keiki are welcome. \nIf you are affiliated with a group that would like to plan a private volunteer workday at the Kōkua Learning Farm please email volunteer@kokuahawaiifoundation.org for more information!
URL:https://dlnr.hawaii.gov/dofaw/event/kokua-learning-farm-community-workdays/2025-12-06/
CATEGORIES:Volunteer Events
ORGANIZER;CN="volunteer@kokuahawaiifoundation.org":MAILTO:volunteer@kokuahawaiifoundation.org
END:VEVENT
BEGIN:VEVENT
DTSTART;TZID=Pacific/Honolulu:20251101T090000
DTEND;TZID=Pacific/Honolulu:20251101T113000
DTSTAMP:20260419T161945
CREATED:20250130T184019Z
LAST-MODIFIED:20250512T205221Z
UID:10000289-1761987600-1761996600@dlnr.hawaii.gov
SUMMARY:Kōkua Learning Farm Community Workdays
DESCRIPTION:The information below is from one of our partners for Year of Our Community Forests: \nKōkua Learning Farm Community Workdays take place on the first Saturday of each month! We meet from 9:00am to 11:30am for a morning of light farm work\, education\, and family fun. Projects may include but are not limited to: agroforestry work\, mulching\, weeding\, trimming\, loʻi clearing\, planting\, and harvesting. \n All volunteers must complete our Liability and Media Waiver Form and Register for the Workday using the form below. Please fill out the form for yourself\, and remind anyone planning to attend to also register. Supervised Keiki are welcome. \nIf you are affiliated with a group that would like to plan a private volunteer workday at the Kōkua Learning Farm please email volunteer@kokuahawaiifoundation.org for more information!
URL:https://dlnr.hawaii.gov/dofaw/event/kokua-learning-farm-community-workdays/2025-11-01/
CATEGORIES:Volunteer Events
ORGANIZER;CN="volunteer@kokuahawaiifoundation.org":MAILTO:volunteer@kokuahawaiifoundation.org
END:VEVENT
BEGIN:VEVENT
DTSTART;TZID=Pacific/Honolulu:20251004T090000
DTEND;TZID=Pacific/Honolulu:20251004T113000
DTSTAMP:20260419T161945
CREATED:20250130T184019Z
LAST-MODIFIED:20250512T205221Z
UID:10000288-1759568400-1759577400@dlnr.hawaii.gov
SUMMARY:Kōkua Learning Farm Community Workdays
DESCRIPTION:The information below is from one of our partners for Year of Our Community Forests: \nKōkua Learning Farm Community Workdays take place on the first Saturday of each month! We meet from 9:00am to 11:30am for a morning of light farm work\, education\, and family fun. Projects may include but are not limited to: agroforestry work\, mulching\, weeding\, trimming\, loʻi clearing\, planting\, and harvesting. \n All volunteers must complete our Liability and Media Waiver Form and Register for the Workday using the form below. Please fill out the form for yourself\, and remind anyone planning to attend to also register. Supervised Keiki are welcome. \nIf you are affiliated with a group that would like to plan a private volunteer workday at the Kōkua Learning Farm please email volunteer@kokuahawaiifoundation.org for more information!
URL:https://dlnr.hawaii.gov/dofaw/event/kokua-learning-farm-community-workdays/2025-10-04/
CATEGORIES:Volunteer Events
ORGANIZER;CN="volunteer@kokuahawaiifoundation.org":MAILTO:volunteer@kokuahawaiifoundation.org
END:VEVENT
BEGIN:VEVENT
DTSTART;TZID=Pacific/Honolulu:20250906T090000
DTEND;TZID=Pacific/Honolulu:20250906T113000
DTSTAMP:20260419T161945
CREATED:20250130T184019Z
LAST-MODIFIED:20250512T205221Z
UID:10000287-1757149200-1757158200@dlnr.hawaii.gov
SUMMARY:Kōkua Learning Farm Community Workdays
DESCRIPTION:The information below is from one of our partners for Year of Our Community Forests: \nKōkua Learning Farm Community Workdays take place on the first Saturday of each month! We meet from 9:00am to 11:30am for a morning of light farm work\, education\, and family fun. Projects may include but are not limited to: agroforestry work\, mulching\, weeding\, trimming\, loʻi clearing\, planting\, and harvesting. \n All volunteers must complete our Liability and Media Waiver Form and Register for the Workday using the form below. Please fill out the form for yourself\, and remind anyone planning to attend to also register. Supervised Keiki are welcome. \nIf you are affiliated with a group that would like to plan a private volunteer workday at the Kōkua Learning Farm please email volunteer@kokuahawaiifoundation.org for more information!
URL:https://dlnr.hawaii.gov/dofaw/event/kokua-learning-farm-community-workdays/2025-09-06/
CATEGORIES:Volunteer Events
ORGANIZER;CN="volunteer@kokuahawaiifoundation.org":MAILTO:volunteer@kokuahawaiifoundation.org
END:VEVENT
BEGIN:VEVENT
DTSTART;TZID=Pacific/Honolulu:20250802T090000
DTEND;TZID=Pacific/Honolulu:20250802T113000
DTSTAMP:20260419T161945
CREATED:20250130T184019Z
LAST-MODIFIED:20250512T205221Z
UID:10000286-1754125200-1754134200@dlnr.hawaii.gov
SUMMARY:Kōkua Learning Farm Community Workdays
DESCRIPTION:The information below is from one of our partners for Year of Our Community Forests: \nKōkua Learning Farm Community Workdays take place on the first Saturday of each month! We meet from 9:00am to 11:30am for a morning of light farm work\, education\, and family fun. Projects may include but are not limited to: agroforestry work\, mulching\, weeding\, trimming\, loʻi clearing\, planting\, and harvesting. \n All volunteers must complete our Liability and Media Waiver Form and Register for the Workday using the form below. Please fill out the form for yourself\, and remind anyone planning to attend to also register. Supervised Keiki are welcome. \nIf you are affiliated with a group that would like to plan a private volunteer workday at the Kōkua Learning Farm please email volunteer@kokuahawaiifoundation.org for more information!
URL:https://dlnr.hawaii.gov/dofaw/event/kokua-learning-farm-community-workdays/2025-08-02/
CATEGORIES:Volunteer Events
ORGANIZER;CN="volunteer@kokuahawaiifoundation.org":MAILTO:volunteer@kokuahawaiifoundation.org
END:VEVENT
BEGIN:VEVENT
DTSTART;TZID=Pacific/Honolulu:20250705T090000
DTEND;TZID=Pacific/Honolulu:20250705T113000
DTSTAMP:20260419T161945
CREATED:20250130T184019Z
LAST-MODIFIED:20250512T205221Z
UID:10000285-1751706000-1751715000@dlnr.hawaii.gov
SUMMARY:Kōkua Learning Farm Community Workdays
DESCRIPTION:The information below is from one of our partners for Year of Our Community Forests: \nKōkua Learning Farm Community Workdays take place on the first Saturday of each month! We meet from 9:00am to 11:30am for a morning of light farm work\, education\, and family fun. Projects may include but are not limited to: agroforestry work\, mulching\, weeding\, trimming\, loʻi clearing\, planting\, and harvesting. \n All volunteers must complete our Liability and Media Waiver Form and Register for the Workday using the form below. Please fill out the form for yourself\, and remind anyone planning to attend to also register. Supervised Keiki are welcome. \nIf you are affiliated with a group that would like to plan a private volunteer workday at the Kōkua Learning Farm please email volunteer@kokuahawaiifoundation.org for more information!
URL:https://dlnr.hawaii.gov/dofaw/event/kokua-learning-farm-community-workdays/2025-07-05/
CATEGORIES:Volunteer Events
ORGANIZER;CN="volunteer@kokuahawaiifoundation.org":MAILTO:volunteer@kokuahawaiifoundation.org
END:VEVENT
BEGIN:VEVENT
DTSTART;TZID=Pacific/Honolulu:20250607T090000
DTEND;TZID=Pacific/Honolulu:20250607T113000
DTSTAMP:20260419T161945
CREATED:20250130T184019Z
LAST-MODIFIED:20250512T205221Z
UID:10000284-1749286800-1749295800@dlnr.hawaii.gov
SUMMARY:Kōkua Learning Farm Community Workdays
DESCRIPTION:The information below is from one of our partners for Year of Our Community Forests: \nKōkua Learning Farm Community Workdays take place on the first Saturday of each month! We meet from 9:00am to 11:30am for a morning of light farm work\, education\, and family fun. Projects may include but are not limited to: agroforestry work\, mulching\, weeding\, trimming\, loʻi clearing\, planting\, and harvesting. \n All volunteers must complete our Liability and Media Waiver Form and Register for the Workday using the form below. Please fill out the form for yourself\, and remind anyone planning to attend to also register. Supervised Keiki are welcome. \nIf you are affiliated with a group that would like to plan a private volunteer workday at the Kōkua Learning Farm please email volunteer@kokuahawaiifoundation.org for more information!
URL:https://dlnr.hawaii.gov/dofaw/event/kokua-learning-farm-community-workdays/2025-06-07/
CATEGORIES:Volunteer Events
ORGANIZER;CN="volunteer@kokuahawaiifoundation.org":MAILTO:volunteer@kokuahawaiifoundation.org
END:VEVENT
BEGIN:VEVENT
DTSTART;TZID=Pacific/Honolulu:20250503T090000
DTEND;TZID=Pacific/Honolulu:20250503T113000
DTSTAMP:20260419T161945
CREATED:20250130T184019Z
LAST-MODIFIED:20250512T205221Z
UID:10000283-1746262800-1746271800@dlnr.hawaii.gov
SUMMARY:Kōkua Learning Farm Community Workdays
DESCRIPTION:The information below is from one of our partners for Year of Our Community Forests: \nKōkua Learning Farm Community Workdays take place on the first Saturday of each month! We meet from 9:00am to 11:30am for a morning of light farm work\, education\, and family fun. Projects may include but are not limited to: agroforestry work\, mulching\, weeding\, trimming\, loʻi clearing\, planting\, and harvesting. \n All volunteers must complete our Liability and Media Waiver Form and Register for the Workday using the form below. Please fill out the form for yourself\, and remind anyone planning to attend to also register. Supervised Keiki are welcome. \nIf you are affiliated with a group that would like to plan a private volunteer workday at the Kōkua Learning Farm please email volunteer@kokuahawaiifoundation.org for more information!
URL:https://dlnr.hawaii.gov/dofaw/event/kokua-learning-farm-community-workdays/2025-05-03/
CATEGORIES:Volunteer Events
ORGANIZER;CN="volunteer@kokuahawaiifoundation.org":MAILTO:volunteer@kokuahawaiifoundation.org
END:VEVENT
BEGIN:VEVENT
DTSTART;TZID=Pacific/Honolulu:20250405T090000
DTEND;TZID=Pacific/Honolulu:20250405T113000
DTSTAMP:20260419T161945
CREATED:20250130T184019Z
LAST-MODIFIED:20250512T205221Z
UID:10000282-1743843600-1743852600@dlnr.hawaii.gov
SUMMARY:Kōkua Learning Farm Community Workdays
DESCRIPTION:The information below is from one of our partners for Year of Our Community Forests: \nKōkua Learning Farm Community Workdays take place on the first Saturday of each month! We meet from 9:00am to 11:30am for a morning of light farm work\, education\, and family fun. Projects may include but are not limited to: agroforestry work\, mulching\, weeding\, trimming\, loʻi clearing\, planting\, and harvesting. \n All volunteers must complete our Liability and Media Waiver Form and Register for the Workday using the form below. Please fill out the form for yourself\, and remind anyone planning to attend to also register. Supervised Keiki are welcome. \nIf you are affiliated with a group that would like to plan a private volunteer workday at the Kōkua Learning Farm please email volunteer@kokuahawaiifoundation.org for more information!
URL:https://dlnr.hawaii.gov/dofaw/event/kokua-learning-farm-community-workdays/2025-04-05/
CATEGORIES:Volunteer Events
ORGANIZER;CN="volunteer@kokuahawaiifoundation.org":MAILTO:volunteer@kokuahawaiifoundation.org
END:VEVENT
BEGIN:VEVENT
DTSTART;TZID=Pacific/Honolulu:20250301T090000
DTEND;TZID=Pacific/Honolulu:20250301T113000
DTSTAMP:20260419T161945
CREATED:20250130T184019Z
LAST-MODIFIED:20250512T205221Z
UID:10000281-1740819600-1740828600@dlnr.hawaii.gov
SUMMARY:Kōkua Learning Farm Community Workdays
DESCRIPTION:The information below is from one of our partners for Year of Our Community Forests: \nKōkua Learning Farm Community Workdays take place on the first Saturday of each month! We meet from 9:00am to 11:30am for a morning of light farm work\, education\, and family fun. Projects may include but are not limited to: agroforestry work\, mulching\, weeding\, trimming\, loʻi clearing\, planting\, and harvesting. \n All volunteers must complete our Liability and Media Waiver Form and Register for the Workday using the form below. Please fill out the form for yourself\, and remind anyone planning to attend to also register. Supervised Keiki are welcome. \nIf you are affiliated with a group that would like to plan a private volunteer workday at the Kōkua Learning Farm please email volunteer@kokuahawaiifoundation.org for more information!
URL:https://dlnr.hawaii.gov/dofaw/event/kokua-learning-farm-community-workdays/2025-03-01/
CATEGORIES:Volunteer Events
ORGANIZER;CN="volunteer@kokuahawaiifoundation.org":MAILTO:volunteer@kokuahawaiifoundation.org
END:VEVENT
BEGIN:VEVENT
DTSTART;TZID=Pacific/Honolulu:20250201T090000
DTEND;TZID=Pacific/Honolulu:20250201T113000
DTSTAMP:20260419T161945
CREATED:20250130T184019Z
LAST-MODIFIED:20250512T205221Z
UID:10000280-1738400400-1738409400@dlnr.hawaii.gov
SUMMARY:Kōkua Learning Farm Community Workdays
DESCRIPTION:The information below is from one of our partners for Year of Our Community Forests: \nKōkua Learning Farm Community Workdays take place on the first Saturday of each month! We meet from 9:00am to 11:30am for a morning of light farm work\, education\, and family fun. Projects may include but are not limited to: agroforestry work\, mulching\, weeding\, trimming\, loʻi clearing\, planting\, and harvesting. \n All volunteers must complete our Liability and Media Waiver Form and Register for the Workday using the form below. Please fill out the form for yourself\, and remind anyone planning to attend to also register. Supervised Keiki are welcome. \nIf you are affiliated with a group that would like to plan a private volunteer workday at the Kōkua Learning Farm please email volunteer@kokuahawaiifoundation.org for more information!
URL:https://dlnr.hawaii.gov/dofaw/event/kokua-learning-farm-community-workdays/2025-02-01/
CATEGORIES:Volunteer Events
ORGANIZER;CN="volunteer@kokuahawaiifoundation.org":MAILTO:volunteer@kokuahawaiifoundation.org
END:VEVENT
END:VCALENDAR