BEGIN:VCALENDAR
VERSION:2.0
PRODID:-//Division of Forestry and Wildlife - ECPv6.15.20//NONSGML v1.0//EN
CALSCALE:GREGORIAN
METHOD:PUBLISH
X-ORIGINAL-URL:https://dlnr.hawaii.gov/dofaw
X-WR-CALDESC:Events for Division of Forestry and Wildlife
REFRESH-INTERVAL;VALUE=DURATION:PT1H
X-Robots-Tag:noindex
X-PUBLISHED-TTL:PT1H
BEGIN:VTIMEZONE
TZID:Pacific/Honolulu
BEGIN:STANDARD
TZOFFSETFROM:-1000
TZOFFSETTO:-1000
TZNAME:HST
DTSTART:20260101T000000
END:STANDARD
END:VTIMEZONE
BEGIN:VEVENT
DTSTART;TZID=Pacific/Honolulu:20271218T090000
DTEND;TZID=Pacific/Honolulu:20271218T120000
DTSTAMP:20260423T042601
CREATED:20250603T152743Z
LAST-MODIFIED:20260202T034623Z
UID:10003018-1829120400-1829131200@dlnr.hawaii.gov
SUMMARY:Kamananui Workday
DESCRIPTION:MOANALUA EDUCATION FOREST – VOLUNTEER WORKDAYS \nThis is a Keiki to Kupuna Day!  Each month\, we will also hike\, talk story with caretakers\, or do a craft.  So bring your ʻohana and have a fun day in the valley! \n3RD SATURDAYS\, 8:50 am – 12 Noon \n\nFind the event you are looking for on our iVolunteer page \nOʻahu Events
URL:https://dlnr.hawaii.gov/dofaw/event/moanalua-workday-6/2027-12-18/
CATEGORIES:Volunteer Events
ATTACH;FMTTYPE=image/jpeg:https://dlnr.hawaii.gov/dofaw/files/2025/02/MOANALUA-EDUCATION-FOREST.jpg
ORGANIZER;CN="Winona Farias":MAILTO:winona.k.farias@hawaii.gov
END:VEVENT
BEGIN:VEVENT
DTSTART;TZID=Pacific/Honolulu:20280115T090000
DTEND;TZID=Pacific/Honolulu:20280115T120000
DTSTAMP:20260423T042601
CREATED:20250603T152743Z
LAST-MODIFIED:20260202T034623Z
UID:10003019-1831539600-1831550400@dlnr.hawaii.gov
SUMMARY:Kamananui Workday
DESCRIPTION:MOANALUA EDUCATION FOREST – VOLUNTEER WORKDAYS \nThis is a Keiki to Kupuna Day!  Each month\, we will also hike\, talk story with caretakers\, or do a craft.  So bring your ʻohana and have a fun day in the valley! \n3RD SATURDAYS\, 8:50 am – 12 Noon \n\nFind the event you are looking for on our iVolunteer page \nOʻahu Events
URL:https://dlnr.hawaii.gov/dofaw/event/moanalua-workday-6/2028-01-15/
CATEGORIES:Volunteer Events
ATTACH;FMTTYPE=image/jpeg:https://dlnr.hawaii.gov/dofaw/files/2025/02/MOANALUA-EDUCATION-FOREST.jpg
ORGANIZER;CN="Winona Farias":MAILTO:winona.k.farias@hawaii.gov
END:VEVENT
BEGIN:VEVENT
DTSTART;TZID=Pacific/Honolulu:20280219T090000
DTEND;TZID=Pacific/Honolulu:20280219T120000
DTSTAMP:20260423T042601
CREATED:20250603T152743Z
LAST-MODIFIED:20260202T034623Z
UID:10003020-1834563600-1834574400@dlnr.hawaii.gov
SUMMARY:Kamananui Workday
DESCRIPTION:MOANALUA EDUCATION FOREST – VOLUNTEER WORKDAYS \nThis is a Keiki to Kupuna Day!  Each month\, we will also hike\, talk story with caretakers\, or do a craft.  So bring your ʻohana and have a fun day in the valley! \n3RD SATURDAYS\, 8:50 am – 12 Noon \n\nFind the event you are looking for on our iVolunteer page \nOʻahu Events
URL:https://dlnr.hawaii.gov/dofaw/event/moanalua-workday-6/2028-02-19/
CATEGORIES:Volunteer Events
ATTACH;FMTTYPE=image/jpeg:https://dlnr.hawaii.gov/dofaw/files/2025/02/MOANALUA-EDUCATION-FOREST.jpg
ORGANIZER;CN="Winona Farias":MAILTO:winona.k.farias@hawaii.gov
END:VEVENT
BEGIN:VEVENT
DTSTART;TZID=Pacific/Honolulu:20280318T090000
DTEND;TZID=Pacific/Honolulu:20280318T120000
DTSTAMP:20260423T042601
CREATED:20250603T152743Z
LAST-MODIFIED:20260202T034623Z
UID:10003021-1836982800-1836993600@dlnr.hawaii.gov
SUMMARY:Kamananui Workday
DESCRIPTION:MOANALUA EDUCATION FOREST – VOLUNTEER WORKDAYS \nThis is a Keiki to Kupuna Day!  Each month\, we will also hike\, talk story with caretakers\, or do a craft.  So bring your ʻohana and have a fun day in the valley! \n3RD SATURDAYS\, 8:50 am – 12 Noon \n\nFind the event you are looking for on our iVolunteer page \nOʻahu Events
URL:https://dlnr.hawaii.gov/dofaw/event/moanalua-workday-6/2028-03-18/
CATEGORIES:Volunteer Events
ATTACH;FMTTYPE=image/jpeg:https://dlnr.hawaii.gov/dofaw/files/2025/02/MOANALUA-EDUCATION-FOREST.jpg
ORGANIZER;CN="Winona Farias":MAILTO:winona.k.farias@hawaii.gov
END:VEVENT
BEGIN:VEVENT
DTSTART;TZID=Pacific/Honolulu:20280415T090000
DTEND;TZID=Pacific/Honolulu:20280415T120000
DTSTAMP:20260423T042601
CREATED:20250603T152743Z
LAST-MODIFIED:20260202T034623Z
UID:10003022-1839402000-1839412800@dlnr.hawaii.gov
SUMMARY:Kamananui Workday
DESCRIPTION:MOANALUA EDUCATION FOREST – VOLUNTEER WORKDAYS \nThis is a Keiki to Kupuna Day!  Each month\, we will also hike\, talk story with caretakers\, or do a craft.  So bring your ʻohana and have a fun day in the valley! \n3RD SATURDAYS\, 8:50 am – 12 Noon \n\nFind the event you are looking for on our iVolunteer page \nOʻahu Events
URL:https://dlnr.hawaii.gov/dofaw/event/moanalua-workday-6/2028-04-15/
CATEGORIES:Volunteer Events
ATTACH;FMTTYPE=image/jpeg:https://dlnr.hawaii.gov/dofaw/files/2025/02/MOANALUA-EDUCATION-FOREST.jpg
ORGANIZER;CN="Winona Farias":MAILTO:winona.k.farias@hawaii.gov
END:VEVENT
BEGIN:VEVENT
DTSTART;TZID=Pacific/Honolulu:20280520T090000
DTEND;TZID=Pacific/Honolulu:20280520T120000
DTSTAMP:20260423T042601
CREATED:20250603T152743Z
LAST-MODIFIED:20260202T034623Z
UID:10003023-1842426000-1842436800@dlnr.hawaii.gov
SUMMARY:Kamananui Workday
DESCRIPTION:MOANALUA EDUCATION FOREST – VOLUNTEER WORKDAYS \nThis is a Keiki to Kupuna Day!  Each month\, we will also hike\, talk story with caretakers\, or do a craft.  So bring your ʻohana and have a fun day in the valley! \n3RD SATURDAYS\, 8:50 am – 12 Noon \n\nFind the event you are looking for on our iVolunteer page \nOʻahu Events
URL:https://dlnr.hawaii.gov/dofaw/event/moanalua-workday-6/2028-05-20/
CATEGORIES:Volunteer Events
ATTACH;FMTTYPE=image/jpeg:https://dlnr.hawaii.gov/dofaw/files/2025/02/MOANALUA-EDUCATION-FOREST.jpg
ORGANIZER;CN="Winona Farias":MAILTO:winona.k.farias@hawaii.gov
END:VEVENT
BEGIN:VEVENT
DTSTART;TZID=Pacific/Honolulu:20280617T090000
DTEND;TZID=Pacific/Honolulu:20280617T120000
DTSTAMP:20260423T042601
CREATED:20250603T152743Z
LAST-MODIFIED:20260202T034623Z
UID:10003024-1844845200-1844856000@dlnr.hawaii.gov
SUMMARY:Kamananui Workday
DESCRIPTION:MOANALUA EDUCATION FOREST – VOLUNTEER WORKDAYS \nThis is a Keiki to Kupuna Day!  Each month\, we will also hike\, talk story with caretakers\, or do a craft.  So bring your ʻohana and have a fun day in the valley! \n3RD SATURDAYS\, 8:50 am – 12 Noon \n\nFind the event you are looking for on our iVolunteer page \nOʻahu Events
URL:https://dlnr.hawaii.gov/dofaw/event/moanalua-workday-6/2028-06-17/
CATEGORIES:Volunteer Events
ATTACH;FMTTYPE=image/jpeg:https://dlnr.hawaii.gov/dofaw/files/2025/02/MOANALUA-EDUCATION-FOREST.jpg
ORGANIZER;CN="Winona Farias":MAILTO:winona.k.farias@hawaii.gov
END:VEVENT
BEGIN:VEVENT
DTSTART;TZID=Pacific/Honolulu:20280715T090000
DTEND;TZID=Pacific/Honolulu:20280715T120000
DTSTAMP:20260423T042601
CREATED:20250603T152743Z
LAST-MODIFIED:20260202T034623Z
UID:10003025-1847264400-1847275200@dlnr.hawaii.gov
SUMMARY:Kamananui Workday
DESCRIPTION:MOANALUA EDUCATION FOREST – VOLUNTEER WORKDAYS \nThis is a Keiki to Kupuna Day!  Each month\, we will also hike\, talk story with caretakers\, or do a craft.  So bring your ʻohana and have a fun day in the valley! \n3RD SATURDAYS\, 8:50 am – 12 Noon \n\nFind the event you are looking for on our iVolunteer page \nOʻahu Events
URL:https://dlnr.hawaii.gov/dofaw/event/moanalua-workday-6/2028-07-15/
CATEGORIES:Volunteer Events
ATTACH;FMTTYPE=image/jpeg:https://dlnr.hawaii.gov/dofaw/files/2025/02/MOANALUA-EDUCATION-FOREST.jpg
ORGANIZER;CN="Winona Farias":MAILTO:winona.k.farias@hawaii.gov
END:VEVENT
BEGIN:VEVENT
DTSTART;TZID=Pacific/Honolulu:20280819T090000
DTEND;TZID=Pacific/Honolulu:20280819T120000
DTSTAMP:20260423T042601
CREATED:20250603T152743Z
LAST-MODIFIED:20260202T034623Z
UID:10003026-1850288400-1850299200@dlnr.hawaii.gov
SUMMARY:Kamananui Workday
DESCRIPTION:MOANALUA EDUCATION FOREST – VOLUNTEER WORKDAYS \nThis is a Keiki to Kupuna Day!  Each month\, we will also hike\, talk story with caretakers\, or do a craft.  So bring your ʻohana and have a fun day in the valley! \n3RD SATURDAYS\, 8:50 am – 12 Noon \n\nFind the event you are looking for on our iVolunteer page \nOʻahu Events
URL:https://dlnr.hawaii.gov/dofaw/event/moanalua-workday-6/2028-08-19/
CATEGORIES:Volunteer Events
ATTACH;FMTTYPE=image/jpeg:https://dlnr.hawaii.gov/dofaw/files/2025/02/MOANALUA-EDUCATION-FOREST.jpg
ORGANIZER;CN="Winona Farias":MAILTO:winona.k.farias@hawaii.gov
END:VEVENT
BEGIN:VEVENT
DTSTART;TZID=Pacific/Honolulu:20280916T090000
DTEND;TZID=Pacific/Honolulu:20280916T120000
DTSTAMP:20260423T042601
CREATED:20250603T152743Z
LAST-MODIFIED:20260202T034623Z
UID:10003027-1852707600-1852718400@dlnr.hawaii.gov
SUMMARY:Kamananui Workday
DESCRIPTION:MOANALUA EDUCATION FOREST – VOLUNTEER WORKDAYS \nThis is a Keiki to Kupuna Day!  Each month\, we will also hike\, talk story with caretakers\, or do a craft.  So bring your ʻohana and have a fun day in the valley! \n3RD SATURDAYS\, 8:50 am – 12 Noon \n\nFind the event you are looking for on our iVolunteer page \nOʻahu Events
URL:https://dlnr.hawaii.gov/dofaw/event/moanalua-workday-6/2028-09-16/
CATEGORIES:Volunteer Events
ATTACH;FMTTYPE=image/jpeg:https://dlnr.hawaii.gov/dofaw/files/2025/02/MOANALUA-EDUCATION-FOREST.jpg
ORGANIZER;CN="Winona Farias":MAILTO:winona.k.farias@hawaii.gov
END:VEVENT
BEGIN:VEVENT
DTSTART;TZID=Pacific/Honolulu:20281021T090000
DTEND;TZID=Pacific/Honolulu:20281021T120000
DTSTAMP:20260423T042601
CREATED:20250603T152743Z
LAST-MODIFIED:20260202T034623Z
UID:10003028-1855731600-1855742400@dlnr.hawaii.gov
SUMMARY:Kamananui Workday
DESCRIPTION:MOANALUA EDUCATION FOREST – VOLUNTEER WORKDAYS \nThis is a Keiki to Kupuna Day!  Each month\, we will also hike\, talk story with caretakers\, or do a craft.  So bring your ʻohana and have a fun day in the valley! \n3RD SATURDAYS\, 8:50 am – 12 Noon \n\nFind the event you are looking for on our iVolunteer page \nOʻahu Events
URL:https://dlnr.hawaii.gov/dofaw/event/moanalua-workday-6/2028-10-21/
CATEGORIES:Volunteer Events
ATTACH;FMTTYPE=image/jpeg:https://dlnr.hawaii.gov/dofaw/files/2025/02/MOANALUA-EDUCATION-FOREST.jpg
ORGANIZER;CN="Winona Farias":MAILTO:winona.k.farias@hawaii.gov
END:VEVENT
BEGIN:VEVENT
DTSTART;TZID=Pacific/Honolulu:20281118T090000
DTEND;TZID=Pacific/Honolulu:20281118T120000
DTSTAMP:20260423T042601
CREATED:20250603T152743Z
LAST-MODIFIED:20260202T034623Z
UID:10003029-1858150800-1858161600@dlnr.hawaii.gov
SUMMARY:Kamananui Workday
DESCRIPTION:MOANALUA EDUCATION FOREST – VOLUNTEER WORKDAYS \nThis is a Keiki to Kupuna Day!  Each month\, we will also hike\, talk story with caretakers\, or do a craft.  So bring your ʻohana and have a fun day in the valley! \n3RD SATURDAYS\, 8:50 am – 12 Noon \n\nFind the event you are looking for on our iVolunteer page \nOʻahu Events
URL:https://dlnr.hawaii.gov/dofaw/event/moanalua-workday-6/2028-11-18/
CATEGORIES:Volunteer Events
ATTACH;FMTTYPE=image/jpeg:https://dlnr.hawaii.gov/dofaw/files/2025/02/MOANALUA-EDUCATION-FOREST.jpg
ORGANIZER;CN="Winona Farias":MAILTO:winona.k.farias@hawaii.gov
END:VEVENT
BEGIN:VEVENT
DTSTART;TZID=Pacific/Honolulu:20281216T090000
DTEND;TZID=Pacific/Honolulu:20281216T120000
DTSTAMP:20260423T042601
CREATED:20250603T152743Z
LAST-MODIFIED:20260202T034623Z
UID:10003030-1860570000-1860580800@dlnr.hawaii.gov
SUMMARY:Kamananui Workday
DESCRIPTION:MOANALUA EDUCATION FOREST – VOLUNTEER WORKDAYS \nThis is a Keiki to Kupuna Day!  Each month\, we will also hike\, talk story with caretakers\, or do a craft.  So bring your ʻohana and have a fun day in the valley! \n3RD SATURDAYS\, 8:50 am – 12 Noon \n\nFind the event you are looking for on our iVolunteer page \nOʻahu Events
URL:https://dlnr.hawaii.gov/dofaw/event/moanalua-workday-6/2028-12-16/
CATEGORIES:Volunteer Events
ATTACH;FMTTYPE=image/jpeg:https://dlnr.hawaii.gov/dofaw/files/2025/02/MOANALUA-EDUCATION-FOREST.jpg
ORGANIZER;CN="Winona Farias":MAILTO:winona.k.farias@hawaii.gov
END:VEVENT
BEGIN:VEVENT
DTSTART;TZID=Pacific/Honolulu:20290120T090000
DTEND;TZID=Pacific/Honolulu:20290120T120000
DTSTAMP:20260423T042601
CREATED:20250603T152743Z
LAST-MODIFIED:20260202T034623Z
UID:10003031-1863594000-1863604800@dlnr.hawaii.gov
SUMMARY:Kamananui Workday
DESCRIPTION:MOANALUA EDUCATION FOREST – VOLUNTEER WORKDAYS \nThis is a Keiki to Kupuna Day!  Each month\, we will also hike\, talk story with caretakers\, or do a craft.  So bring your ʻohana and have a fun day in the valley! \n3RD SATURDAYS\, 8:50 am – 12 Noon \n\nFind the event you are looking for on our iVolunteer page \nOʻahu Events
URL:https://dlnr.hawaii.gov/dofaw/event/moanalua-workday-6/2029-01-20/
CATEGORIES:Volunteer Events
ATTACH;FMTTYPE=image/jpeg:https://dlnr.hawaii.gov/dofaw/files/2025/02/MOANALUA-EDUCATION-FOREST.jpg
ORGANIZER;CN="Winona Farias":MAILTO:winona.k.farias@hawaii.gov
END:VEVENT
BEGIN:VEVENT
DTSTART;TZID=Pacific/Honolulu:20290217T090000
DTEND;TZID=Pacific/Honolulu:20290217T120000
DTSTAMP:20260423T042601
CREATED:20250603T152743Z
LAST-MODIFIED:20260202T034623Z
UID:10003032-1866013200-1866024000@dlnr.hawaii.gov
SUMMARY:Kamananui Workday
DESCRIPTION:MOANALUA EDUCATION FOREST – VOLUNTEER WORKDAYS \nThis is a Keiki to Kupuna Day!  Each month\, we will also hike\, talk story with caretakers\, or do a craft.  So bring your ʻohana and have a fun day in the valley! \n3RD SATURDAYS\, 8:50 am – 12 Noon \n\nFind the event you are looking for on our iVolunteer page \nOʻahu Events
URL:https://dlnr.hawaii.gov/dofaw/event/moanalua-workday-6/2029-02-17/
CATEGORIES:Volunteer Events
ATTACH;FMTTYPE=image/jpeg:https://dlnr.hawaii.gov/dofaw/files/2025/02/MOANALUA-EDUCATION-FOREST.jpg
ORGANIZER;CN="Winona Farias":MAILTO:winona.k.farias@hawaii.gov
END:VEVENT
BEGIN:VEVENT
DTSTART;TZID=Pacific/Honolulu:20290317T090000
DTEND;TZID=Pacific/Honolulu:20290317T120000
DTSTAMP:20260423T042601
CREATED:20250603T152743Z
LAST-MODIFIED:20260202T034623Z
UID:10003033-1868432400-1868443200@dlnr.hawaii.gov
SUMMARY:Kamananui Workday
DESCRIPTION:MOANALUA EDUCATION FOREST – VOLUNTEER WORKDAYS \nThis is a Keiki to Kupuna Day!  Each month\, we will also hike\, talk story with caretakers\, or do a craft.  So bring your ʻohana and have a fun day in the valley! \n3RD SATURDAYS\, 8:50 am – 12 Noon \n\nFind the event you are looking for on our iVolunteer page \nOʻahu Events
URL:https://dlnr.hawaii.gov/dofaw/event/moanalua-workday-6/2029-03-17/
CATEGORIES:Volunteer Events
ATTACH;FMTTYPE=image/jpeg:https://dlnr.hawaii.gov/dofaw/files/2025/02/MOANALUA-EDUCATION-FOREST.jpg
ORGANIZER;CN="Winona Farias":MAILTO:winona.k.farias@hawaii.gov
END:VEVENT
BEGIN:VEVENT
DTSTART;TZID=Pacific/Honolulu:20290421T090000
DTEND;TZID=Pacific/Honolulu:20290421T120000
DTSTAMP:20260423T042601
CREATED:20250603T152743Z
LAST-MODIFIED:20260202T034623Z
UID:10003034-1871456400-1871467200@dlnr.hawaii.gov
SUMMARY:Kamananui Workday
DESCRIPTION:MOANALUA EDUCATION FOREST – VOLUNTEER WORKDAYS \nThis is a Keiki to Kupuna Day!  Each month\, we will also hike\, talk story with caretakers\, or do a craft.  So bring your ʻohana and have a fun day in the valley! \n3RD SATURDAYS\, 8:50 am – 12 Noon \n\nFind the event you are looking for on our iVolunteer page \nOʻahu Events
URL:https://dlnr.hawaii.gov/dofaw/event/moanalua-workday-6/2029-04-21/
CATEGORIES:Volunteer Events
ATTACH;FMTTYPE=image/jpeg:https://dlnr.hawaii.gov/dofaw/files/2025/02/MOANALUA-EDUCATION-FOREST.jpg
ORGANIZER;CN="Winona Farias":MAILTO:winona.k.farias@hawaii.gov
END:VEVENT
BEGIN:VEVENT
DTSTART;TZID=Pacific/Honolulu:20290519T090000
DTEND;TZID=Pacific/Honolulu:20290519T120000
DTSTAMP:20260423T042601
CREATED:20250603T152743Z
LAST-MODIFIED:20260202T034623Z
UID:10003035-1873875600-1873886400@dlnr.hawaii.gov
SUMMARY:Kamananui Workday
DESCRIPTION:MOANALUA EDUCATION FOREST – VOLUNTEER WORKDAYS \nThis is a Keiki to Kupuna Day!  Each month\, we will also hike\, talk story with caretakers\, or do a craft.  So bring your ʻohana and have a fun day in the valley! \n3RD SATURDAYS\, 8:50 am – 12 Noon \n\nFind the event you are looking for on our iVolunteer page \nOʻahu Events
URL:https://dlnr.hawaii.gov/dofaw/event/moanalua-workday-6/2029-05-19/
CATEGORIES:Volunteer Events
ATTACH;FMTTYPE=image/jpeg:https://dlnr.hawaii.gov/dofaw/files/2025/02/MOANALUA-EDUCATION-FOREST.jpg
ORGANIZER;CN="Winona Farias":MAILTO:winona.k.farias@hawaii.gov
END:VEVENT
BEGIN:VEVENT
DTSTART;TZID=Pacific/Honolulu:20290616T090000
DTEND;TZID=Pacific/Honolulu:20290616T120000
DTSTAMP:20260423T042601
CREATED:20250603T152743Z
LAST-MODIFIED:20260202T034623Z
UID:10003036-1876294800-1876305600@dlnr.hawaii.gov
SUMMARY:Kamananui Workday
DESCRIPTION:MOANALUA EDUCATION FOREST – VOLUNTEER WORKDAYS \nThis is a Keiki to Kupuna Day!  Each month\, we will also hike\, talk story with caretakers\, or do a craft.  So bring your ʻohana and have a fun day in the valley! \n3RD SATURDAYS\, 8:50 am – 12 Noon \n\nFind the event you are looking for on our iVolunteer page \nOʻahu Events
URL:https://dlnr.hawaii.gov/dofaw/event/moanalua-workday-6/2029-06-16/
CATEGORIES:Volunteer Events
ATTACH;FMTTYPE=image/jpeg:https://dlnr.hawaii.gov/dofaw/files/2025/02/MOANALUA-EDUCATION-FOREST.jpg
ORGANIZER;CN="Winona Farias":MAILTO:winona.k.farias@hawaii.gov
END:VEVENT
BEGIN:VEVENT
DTSTART;TZID=Pacific/Honolulu:20290721T090000
DTEND;TZID=Pacific/Honolulu:20290721T120000
DTSTAMP:20260423T042601
CREATED:20250603T152743Z
LAST-MODIFIED:20260202T034623Z
UID:10003037-1879318800-1879329600@dlnr.hawaii.gov
SUMMARY:Kamananui Workday
DESCRIPTION:MOANALUA EDUCATION FOREST – VOLUNTEER WORKDAYS \nThis is a Keiki to Kupuna Day!  Each month\, we will also hike\, talk story with caretakers\, or do a craft.  So bring your ʻohana and have a fun day in the valley! \n3RD SATURDAYS\, 8:50 am – 12 Noon \n\nFind the event you are looking for on our iVolunteer page \nOʻahu Events
URL:https://dlnr.hawaii.gov/dofaw/event/moanalua-workday-6/2029-07-21/
CATEGORIES:Volunteer Events
ATTACH;FMTTYPE=image/jpeg:https://dlnr.hawaii.gov/dofaw/files/2025/02/MOANALUA-EDUCATION-FOREST.jpg
ORGANIZER;CN="Winona Farias":MAILTO:winona.k.farias@hawaii.gov
END:VEVENT
BEGIN:VEVENT
DTSTART;TZID=Pacific/Honolulu:20290818T090000
DTEND;TZID=Pacific/Honolulu:20290818T120000
DTSTAMP:20260423T042601
CREATED:20250603T152743Z
LAST-MODIFIED:20260202T034623Z
UID:10003038-1881738000-1881748800@dlnr.hawaii.gov
SUMMARY:Kamananui Workday
DESCRIPTION:MOANALUA EDUCATION FOREST – VOLUNTEER WORKDAYS \nThis is a Keiki to Kupuna Day!  Each month\, we will also hike\, talk story with caretakers\, or do a craft.  So bring your ʻohana and have a fun day in the valley! \n3RD SATURDAYS\, 8:50 am – 12 Noon \n\nFind the event you are looking for on our iVolunteer page \nOʻahu Events
URL:https://dlnr.hawaii.gov/dofaw/event/moanalua-workday-6/2029-08-18/
CATEGORIES:Volunteer Events
ATTACH;FMTTYPE=image/jpeg:https://dlnr.hawaii.gov/dofaw/files/2025/02/MOANALUA-EDUCATION-FOREST.jpg
ORGANIZER;CN="Winona Farias":MAILTO:winona.k.farias@hawaii.gov
END:VEVENT
BEGIN:VEVENT
DTSTART;TZID=Pacific/Honolulu:20290915T090000
DTEND;TZID=Pacific/Honolulu:20290915T120000
DTSTAMP:20260423T042601
CREATED:20250603T152743Z
LAST-MODIFIED:20260202T034623Z
UID:10003039-1884157200-1884168000@dlnr.hawaii.gov
SUMMARY:Kamananui Workday
DESCRIPTION:MOANALUA EDUCATION FOREST – VOLUNTEER WORKDAYS \nThis is a Keiki to Kupuna Day!  Each month\, we will also hike\, talk story with caretakers\, or do a craft.  So bring your ʻohana and have a fun day in the valley! \n3RD SATURDAYS\, 8:50 am – 12 Noon \n\nFind the event you are looking for on our iVolunteer page \nOʻahu Events
URL:https://dlnr.hawaii.gov/dofaw/event/moanalua-workday-6/2029-09-15/
CATEGORIES:Volunteer Events
ATTACH;FMTTYPE=image/jpeg:https://dlnr.hawaii.gov/dofaw/files/2025/02/MOANALUA-EDUCATION-FOREST.jpg
ORGANIZER;CN="Winona Farias":MAILTO:winona.k.farias@hawaii.gov
END:VEVENT
BEGIN:VEVENT
DTSTART;TZID=Pacific/Honolulu:20291020T090000
DTEND;TZID=Pacific/Honolulu:20291020T120000
DTSTAMP:20260423T042601
CREATED:20250603T152743Z
LAST-MODIFIED:20260202T034623Z
UID:10003040-1887181200-1887192000@dlnr.hawaii.gov
SUMMARY:Kamananui Workday
DESCRIPTION:MOANALUA EDUCATION FOREST – VOLUNTEER WORKDAYS \nThis is a Keiki to Kupuna Day!  Each month\, we will also hike\, talk story with caretakers\, or do a craft.  So bring your ʻohana and have a fun day in the valley! \n3RD SATURDAYS\, 8:50 am – 12 Noon \n\nFind the event you are looking for on our iVolunteer page \nOʻahu Events
URL:https://dlnr.hawaii.gov/dofaw/event/moanalua-workday-6/2029-10-20/
CATEGORIES:Volunteer Events
ATTACH;FMTTYPE=image/jpeg:https://dlnr.hawaii.gov/dofaw/files/2025/02/MOANALUA-EDUCATION-FOREST.jpg
ORGANIZER;CN="Winona Farias":MAILTO:winona.k.farias@hawaii.gov
END:VEVENT
BEGIN:VEVENT
DTSTART;TZID=Pacific/Honolulu:20291117T090000
DTEND;TZID=Pacific/Honolulu:20291117T120000
DTSTAMP:20260423T042601
CREATED:20250603T152743Z
LAST-MODIFIED:20260202T034623Z
UID:10003041-1889600400-1889611200@dlnr.hawaii.gov
SUMMARY:Kamananui Workday
DESCRIPTION:MOANALUA EDUCATION FOREST – VOLUNTEER WORKDAYS \nThis is a Keiki to Kupuna Day!  Each month\, we will also hike\, talk story with caretakers\, or do a craft.  So bring your ʻohana and have a fun day in the valley! \n3RD SATURDAYS\, 8:50 am – 12 Noon \n\nFind the event you are looking for on our iVolunteer page \nOʻahu Events
URL:https://dlnr.hawaii.gov/dofaw/event/moanalua-workday-6/2029-11-17/
CATEGORIES:Volunteer Events
ATTACH;FMTTYPE=image/jpeg:https://dlnr.hawaii.gov/dofaw/files/2025/02/MOANALUA-EDUCATION-FOREST.jpg
ORGANIZER;CN="Winona Farias":MAILTO:winona.k.farias@hawaii.gov
END:VEVENT
BEGIN:VEVENT
DTSTART;TZID=Pacific/Honolulu:20291215T090000
DTEND;TZID=Pacific/Honolulu:20291215T120000
DTSTAMP:20260423T042601
CREATED:20250603T152743Z
LAST-MODIFIED:20260202T034623Z
UID:10003042-1892019600-1892030400@dlnr.hawaii.gov
SUMMARY:Kamananui Workday
DESCRIPTION:MOANALUA EDUCATION FOREST – VOLUNTEER WORKDAYS \nThis is a Keiki to Kupuna Day!  Each month\, we will also hike\, talk story with caretakers\, or do a craft.  So bring your ʻohana and have a fun day in the valley! \n3RD SATURDAYS\, 8:50 am – 12 Noon \n\nFind the event you are looking for on our iVolunteer page \nOʻahu Events
URL:https://dlnr.hawaii.gov/dofaw/event/moanalua-workday-6/2029-12-15/
CATEGORIES:Volunteer Events
ATTACH;FMTTYPE=image/jpeg:https://dlnr.hawaii.gov/dofaw/files/2025/02/MOANALUA-EDUCATION-FOREST.jpg
ORGANIZER;CN="Winona Farias":MAILTO:winona.k.farias@hawaii.gov
END:VEVENT
BEGIN:VEVENT
DTSTART;TZID=Pacific/Honolulu:20300119T090000
DTEND;TZID=Pacific/Honolulu:20300119T120000
DTSTAMP:20260423T042601
CREATED:20250603T152743Z
LAST-MODIFIED:20260202T034623Z
UID:10003043-1895043600-1895054400@dlnr.hawaii.gov
SUMMARY:Kamananui Workday
DESCRIPTION:MOANALUA EDUCATION FOREST – VOLUNTEER WORKDAYS \nThis is a Keiki to Kupuna Day!  Each month\, we will also hike\, talk story with caretakers\, or do a craft.  So bring your ʻohana and have a fun day in the valley! \n3RD SATURDAYS\, 8:50 am – 12 Noon \n\nFind the event you are looking for on our iVolunteer page \nOʻahu Events
URL:https://dlnr.hawaii.gov/dofaw/event/moanalua-workday-6/2030-01-19/
CATEGORIES:Volunteer Events
ATTACH;FMTTYPE=image/jpeg:https://dlnr.hawaii.gov/dofaw/files/2025/02/MOANALUA-EDUCATION-FOREST.jpg
ORGANIZER;CN="Winona Farias":MAILTO:winona.k.farias@hawaii.gov
END:VEVENT
BEGIN:VEVENT
DTSTART;TZID=Pacific/Honolulu:20300216T090000
DTEND;TZID=Pacific/Honolulu:20300216T120000
DTSTAMP:20260423T042601
CREATED:20250603T152743Z
LAST-MODIFIED:20260202T034623Z
UID:10003044-1897462800-1897473600@dlnr.hawaii.gov
SUMMARY:Kamananui Workday
DESCRIPTION:MOANALUA EDUCATION FOREST – VOLUNTEER WORKDAYS \nThis is a Keiki to Kupuna Day!  Each month\, we will also hike\, talk story with caretakers\, or do a craft.  So bring your ʻohana and have a fun day in the valley! \n3RD SATURDAYS\, 8:50 am – 12 Noon \n\nFind the event you are looking for on our iVolunteer page \nOʻahu Events
URL:https://dlnr.hawaii.gov/dofaw/event/moanalua-workday-6/2030-02-16/
CATEGORIES:Volunteer Events
ATTACH;FMTTYPE=image/jpeg:https://dlnr.hawaii.gov/dofaw/files/2025/02/MOANALUA-EDUCATION-FOREST.jpg
ORGANIZER;CN="Winona Farias":MAILTO:winona.k.farias@hawaii.gov
END:VEVENT
BEGIN:VEVENT
DTSTART;TZID=Pacific/Honolulu:20300316T090000
DTEND;TZID=Pacific/Honolulu:20300316T120000
DTSTAMP:20260423T042601
CREATED:20250603T152743Z
LAST-MODIFIED:20260202T034623Z
UID:10003045-1899882000-1899892800@dlnr.hawaii.gov
SUMMARY:Kamananui Workday
DESCRIPTION:MOANALUA EDUCATION FOREST – VOLUNTEER WORKDAYS \nThis is a Keiki to Kupuna Day!  Each month\, we will also hike\, talk story with caretakers\, or do a craft.  So bring your ʻohana and have a fun day in the valley! \n3RD SATURDAYS\, 8:50 am – 12 Noon \n\nFind the event you are looking for on our iVolunteer page \nOʻahu Events
URL:https://dlnr.hawaii.gov/dofaw/event/moanalua-workday-6/2030-03-16/
CATEGORIES:Volunteer Events
ATTACH;FMTTYPE=image/jpeg:https://dlnr.hawaii.gov/dofaw/files/2025/02/MOANALUA-EDUCATION-FOREST.jpg
ORGANIZER;CN="Winona Farias":MAILTO:winona.k.farias@hawaii.gov
END:VEVENT
BEGIN:VEVENT
DTSTART;TZID=Pacific/Honolulu:20300420T090000
DTEND;TZID=Pacific/Honolulu:20300420T120000
DTSTAMP:20260423T042601
CREATED:20250603T152743Z
LAST-MODIFIED:20260202T034623Z
UID:10003046-1902906000-1902916800@dlnr.hawaii.gov
SUMMARY:Kamananui Workday
DESCRIPTION:MOANALUA EDUCATION FOREST – VOLUNTEER WORKDAYS \nThis is a Keiki to Kupuna Day!  Each month\, we will also hike\, talk story with caretakers\, or do a craft.  So bring your ʻohana and have a fun day in the valley! \n3RD SATURDAYS\, 8:50 am – 12 Noon \n\nFind the event you are looking for on our iVolunteer page \nOʻahu Events
URL:https://dlnr.hawaii.gov/dofaw/event/moanalua-workday-6/2030-04-20/
CATEGORIES:Volunteer Events
ATTACH;FMTTYPE=image/jpeg:https://dlnr.hawaii.gov/dofaw/files/2025/02/MOANALUA-EDUCATION-FOREST.jpg
ORGANIZER;CN="Winona Farias":MAILTO:winona.k.farias@hawaii.gov
END:VEVENT
BEGIN:VEVENT
DTSTART;TZID=Pacific/Honolulu:20300518T090000
DTEND;TZID=Pacific/Honolulu:20300518T120000
DTSTAMP:20260423T042601
CREATED:20250603T152743Z
LAST-MODIFIED:20260202T034623Z
UID:10003047-1905325200-1905336000@dlnr.hawaii.gov
SUMMARY:Kamananui Workday
DESCRIPTION:MOANALUA EDUCATION FOREST – VOLUNTEER WORKDAYS \nThis is a Keiki to Kupuna Day!  Each month\, we will also hike\, talk story with caretakers\, or do a craft.  So bring your ʻohana and have a fun day in the valley! \n3RD SATURDAYS\, 8:50 am – 12 Noon \n\nFind the event you are looking for on our iVolunteer page \nOʻahu Events
URL:https://dlnr.hawaii.gov/dofaw/event/moanalua-workday-6/2030-05-18/
CATEGORIES:Volunteer Events
ATTACH;FMTTYPE=image/jpeg:https://dlnr.hawaii.gov/dofaw/files/2025/02/MOANALUA-EDUCATION-FOREST.jpg
ORGANIZER;CN="Winona Farias":MAILTO:winona.k.farias@hawaii.gov
END:VEVENT
END:VCALENDAR