BEGIN:VCALENDAR
VERSION:2.0
PRODID:-//Division of Forestry and Wildlife - ECPv6.15.20//NONSGML v1.0//EN
CALSCALE:GREGORIAN
METHOD:PUBLISH
X-WR-CALNAME:Division of Forestry and Wildlife
X-ORIGINAL-URL:https://dlnr.hawaii.gov/dofaw
X-WR-CALDESC:Events for Division of Forestry and Wildlife
REFRESH-INTERVAL;VALUE=DURATION:PT1H
X-Robots-Tag:noindex
X-PUBLISHED-TTL:PT1H
BEGIN:VTIMEZONE
TZID:Pacific/Honolulu
BEGIN:STANDARD
TZOFFSETFROM:-1000
TZOFFSETTO:-1000
TZNAME:HST
DTSTART:20240101T000000
END:STANDARD
END:VTIMEZONE
BEGIN:VEVENT
DTSTART;TZID=Pacific/Honolulu:20250623T083000
DTEND;TZID=Pacific/Honolulu:20250623T113000
DTSTAMP:20260423T152517
CREATED:20250603T155736Z
LAST-MODIFIED:20250603T155736Z
UID:10002565-1750667400-1750678200@dlnr.hawaii.gov
SUMMARY:Kahanaiki Workday
DESCRIPTION:KAWAINUI MARSH WILDLIFE SANCTUARY – VOLUNTEER WORKDAYS \nThis is a Keiki to Kupuna Day!  We will weed\, plant\, and/or take a walk around the area as we share moʻolelo. \nSo bring your ʻohana and have a fun day in the marsh! \nMONDAY – 8:30am-11:30am \n\nSIGN UP USING THIS LINK \nhttps://dlnr.ivolunteer.com/outr_062325
URL:https://dlnr.hawaii.gov/dofaw/event/kahanaiki-workday/
CATEGORIES:Volunteer Events
ATTACH;FMTTYPE=image/jpeg:https://dlnr.hawaii.gov/dofaw/files/2025/06/Copy-of-MOANALUA-EDUCATION-FOREST-1.jpg
ORGANIZER;CN="Winona Farias":MAILTO:winona.k.farias@hawaii.gov
END:VEVENT
BEGIN:VEVENT
DTSTART;TZID=Pacific/Honolulu:20250621T090000
DTEND;TZID=Pacific/Honolulu:20250621T120000
DTSTAMP:20260423T152517
CREATED:20250603T152743Z
LAST-MODIFIED:20260202T034623Z
UID:10002563-1750496400-1750507200@dlnr.hawaii.gov
SUMMARY:Kamananui Workday
DESCRIPTION:MOANALUA EDUCATION FOREST – VOLUNTEER WORKDAYS \nThis is a Keiki to Kupuna Day!  Each month\, we will also hike\, talk story with caretakers\, or do a craft.  So bring your ʻohana and have a fun day in the valley! \n3RD SATURDAYS\, 8:50 am – 12 Noon \n\nFind the event you are looking for on our iVolunteer page \nOʻahu Events
URL:https://dlnr.hawaii.gov/dofaw/event/moanalua-workday-6/2025-06-21/
CATEGORIES:Volunteer Events
ATTACH;FMTTYPE=image/jpeg:https://dlnr.hawaii.gov/dofaw/files/2025/02/MOANALUA-EDUCATION-FOREST.jpg
ORGANIZER;CN="Winona Farias":MAILTO:winona.k.farias@hawaii.gov
END:VEVENT
BEGIN:VEVENT
DTSTART;TZID=Pacific/Honolulu:20250524T090000
DTEND;TZID=Pacific/Honolulu:20250524T120000
DTSTAMP:20260423T152517
CREATED:20250503T051224Z
LAST-MODIFIED:20250630T221015Z
UID:10002548-1748077200-1748088000@dlnr.hawaii.gov
SUMMARY:Waiʻanae Kai Workday
DESCRIPTION:WAIʻANAE KAI FOREST RESERVE – VOLUNTEER WORKDAY \nWe will be weeding and hand sawing haole koa to clear more of the green break.  We will also talk about the area and enjoy the view of the west side.  \nLet’s work together to help care for one of our forest reserves. \nSATURDAYS\, 9:00 am – 12 Noon \n\nFIND THE EVENT YOU ARE LOOKING FOR HERE
URL:https://dlnr.hawaii.gov/dofaw/event/wai%ca%bbanae-kai-workday-2/2025-05-24/
CATEGORIES:Volunteer Events
ATTACH;FMTTYPE=image/jpeg:https://dlnr.hawaii.gov/dofaw/files/2025/05/WKAI.jpg
ORGANIZER;CN="Winona Farias":MAILTO:winona.k.farias@hawaii.gov
END:VEVENT
BEGIN:VEVENT
DTSTART;TZID=Pacific/Honolulu:20250311T083000
DTEND;TZID=Pacific/Honolulu:20250311T113000
DTSTAMP:20260423T152517
CREATED:20250302T033311Z
LAST-MODIFIED:20250810T033714Z
UID:10002504-1741681800-1741692600@dlnr.hawaii.gov
SUMMARY:Pouhala Workday
DESCRIPTION:Pouhala Marsh – Volunteer Workday \nWe will be clearing some weeds near the stream and creating an area for better bird viewing.  We will see how many wetland birds we can find! \nLet’s work together to care for one of our wildlife sanctuaries. \nMeet Time: 8:00 am\, meet near the end of Waipahu Depot Road\, across from the Police Academy.   We will be working until 11:00 am doing activities that may include caring for a Hala grove\, picking up rubbish\, and weeding. We will also do a little walk around and bird watch!  \nWear/Bring: Water\, sturdy shoes\, sun protection\, repellent\, and water. Work pants and long sleeves recommended for invasive species removal. \nParking: We will park inside the gate. \nNotice: All ages welcome. Participants under 16 years of age must have a parent or guardian attend for the duration of the activity.  We will provide multiple activity options for you based on age\, physical ability\, and interest. \n\nFind the event you are looking for on our iVolunteer page \nOʻahu Events
URL:https://dlnr.hawaii.gov/dofaw/event/pouhala-workday/2025-03-11/
CATEGORIES:Community Events,Volunteer Events
ATTACH;FMTTYPE=image/jpeg:https://dlnr.hawaii.gov/dofaw/files/2025/03/Pouhala-e1754796626113.jpg
ORGANIZER;CN="Winona Farias":MAILTO:winona.k.farias@hawaii.gov
END:VEVENT
END:VCALENDAR