BEGIN:VCALENDAR
VERSION:2.0
PRODID:-//Division of Forestry and Wildlife - ECPv6.15.20//NONSGML v1.0//EN
CALSCALE:GREGORIAN
METHOD:PUBLISH
X-ORIGINAL-URL:https://dlnr.hawaii.gov/dofaw
X-WR-CALDESC:Events for Division of Forestry and Wildlife
REFRESH-INTERVAL;VALUE=DURATION:PT1H
X-Robots-Tag:noindex
X-PUBLISHED-TTL:PT1H
BEGIN:VTIMEZONE
TZID:Pacific/Honolulu
BEGIN:STANDARD
TZOFFSETFROM:-1000
TZOFFSETTO:-1000
TZNAME:HST
DTSTART:20250101T000000
END:STANDARD
END:VTIMEZONE
BEGIN:VEVENT
DTSTART;TZID=Pacific/Honolulu:20260509T090000
DTEND;TZID=Pacific/Honolulu:20260509T130000
DTSTAMP:20260421T153659
CREATED:20260421T211317Z
LAST-MODIFIED:20260421T211317Z
UID:10003096-1778317200-1778331600@dlnr.hawaii.gov
SUMMARY:Kaiāulu Puʻuwaʻawaʻa Volunteer Day
DESCRIPTION:Join us for a day of mālama ʻāina in the native dryland forest of Puʻuwaʻawaʻa! Volunteers will help with native planting\, invasive species removal\, and seed cleaning to support forest restoration and ecosystem health. \nSIGN-UP: https://bit.ly/m/kaiauluvolunteer  \nAll tools and materials will be provided\, including gloves\, a water cooler\, and light refreshments. Please bring your own water bottle\, lunch\, sun protection (hat\, sunscreen\, long sleeves\, and pants)\, and closed-toe shoes suitable for outdoor work. \nMahalo for joining us to mālama ʻāina at Puʻuwaʻawaʻa! \nQuestions? Email us at kaiaulu.pww@akakaforests.org
URL:https://dlnr.hawaii.gov/dofaw/event/kaiaulu-pu%ca%bbuwa%ca%bbawa%ca%bba-volunteer-day-5/
LOCATION:Puʻuwaʻawaʻa Forest Reserve\, 71-1645 Hawaiʻi Belt Rd\, Kailua-Kona\, HI\, 96740\, United States
CATEGORIES:Volunteer Events
ATTACH;FMTTYPE=image/jpeg:https://dlnr.hawaii.gov/dofaw/files/2026/04/KP_May9.jpg
ORGANIZER;CN="Akaka Foundation for Tropical Forests":MAILTO:kaiaulu.pww@akakaforests.org
END:VEVENT
BEGIN:VEVENT
DTSTART;TZID=Pacific/Honolulu:20260523T080000
DTEND;TZID=Pacific/Honolulu:20260523T120000
DTSTAMP:20260421T153659
CREATED:20260319T232146Z
LAST-MODIFIED:20260319T232146Z
UID:10003080-1779523200-1779537600@dlnr.hawaii.gov
SUMMARY:Puʻuwaʻawaʻa Volunteer Day
DESCRIPTION:Join Nāpuʻu Natural Resource Management (NNRM) for a volunteer day in our Hauʻāina unit! \nSign-up: https://forms.gle/STMYMLn1XNtx34dJ7 \nDate: Saturday\, May 23\, 2026 \nTime: 8:00 am – 12:00 pm \nLocation: Meet at the Puʻuwaʻawaʻa Forest Reserve at the hikers station (left-hand side parking area right inside of gate) \nWhat: We will be out-planting various native dry/mesic plants which provide biodiversity\, watershed restoration\, and cultural importance. Most planting will be done in a rocky soil substrate. Gloves and tools will be provided. \nBring:  \n\nSturdy hiking boots/shoes (closed-toe) are REQUIRED\nLong-sleeved shirts and long pants are recommended\nSnacks and a lunch\nPlenty of water: a water cooler will be available for refills.\nSun protection: Sunscreen\, hat\, sunglasses\nRain gear\n\n**Terrain is uneven and rocky. Weather can be hot and sunny or cold and rainy.**
URL:https://dlnr.hawaii.gov/dofaw/event/pu%ca%bbuwa%ca%bbawa%ca%bba-volunteer-day-12/
LOCATION:Puʻuwaʻawaʻa Forest Reserve\, 71-1645 Hawaiʻi Belt Rd\, Kailua-Kona\, HI\, 96740\, United States
CATEGORIES:Volunteer Events
ATTACH;FMTTYPE=image/png:https://dlnr.hawaii.gov/dofaw/files/2026/03/Email-Volunteer-Day-2.png
ORGANIZER;CN="N%C4%81pu%CA%BBu Natural Resource Management":MAILTO:napuuconservation@gmail.com
END:VEVENT
BEGIN:VEVENT
DTSTART;TZID=Pacific/Honolulu:20260620T080000
DTEND;TZID=Pacific/Honolulu:20260620T130000
DTSTAMP:20260421T153659
CREATED:20260319T232851Z
LAST-MODIFIED:20260319T232851Z
UID:10003081-1781942400-1781960400@dlnr.hawaii.gov
SUMMARY:Puʻuwaʻawaʻa Volunteer Day
DESCRIPTION:Join Nāpuʻu Natural Resource Management (NNRM) for a volunteer day in our ʻAiea unit! \nAll participants will ride in staff vehicles to the project site. This event is limited to 15 participants\, but we will have a waitlist! \nSign-up: https://forms.gle/rm4wM1yGes6zLHPC7 \nDate: Saturday\, June 20\, 2026 \nTime: 8:00 am – 1:00 pm \nLocation: Meet at the Puʻuwaʻawaʻa Forest Reserve at the hikers station (left-hand side parking area right inside of gate) \nWhat: We will be out-planting various native dry/mesic plants which provide biodiversity\, watershed restoration\, and cultural importance. Most planting will be done in a rocky soil substrate. Gloves and tools will be provided. \nBring:  \n\nSturdy hiking boots/shoes (closed-toe) are REQUIRED\nLong-sleeved shirts and long pants are recommended\nSnacks and a lunch\nPlenty of water: a water cooler will be available for refills.\nSun protection: Sunscreen\, hat\, sunglasses\nRain gear\n\n**Terrain is uneven and rocky. Weather can be hot and sunny or cold and rainy.**
URL:https://dlnr.hawaii.gov/dofaw/event/pu%ca%bbuwa%ca%bbawa%ca%bba-volunteer-day-13/
LOCATION:Puʻuwaʻawaʻa Forest Reserve\, 71-1645 Hawaiʻi Belt Rd\, Kailua-Kona\, HI\, 96740\, United States
CATEGORIES:Volunteer Events
ATTACH;FMTTYPE=image/png:https://dlnr.hawaii.gov/dofaw/files/2026/03/Email-Volunteer-Day-3.png
ORGANIZER;CN="N%C4%81pu%CA%BBu Natural Resource Management":MAILTO:napuuconservation@gmail.com
END:VEVENT
END:VCALENDAR