BEGIN:VCALENDAR
VERSION:2.0
PRODID:-//Holomua Marine Initiative - ECPv6.15.20//NONSGML v1.0//EN
CALSCALE:GREGORIAN
METHOD:PUBLISH
X-ORIGINAL-URL:https://dlnr.hawaii.gov/holomua
X-WR-CALDESC:Events for Holomua Marine Initiative
REFRESH-INTERVAL;VALUE=DURATION:PT1H
X-Robots-Tag:noindex
X-PUBLISHED-TTL:PT1H
BEGIN:VTIMEZONE
TZID:Pacific/Honolulu
BEGIN:STANDARD
TZOFFSETFROM:-1000
TZOFFSETTO:-1000
TZNAME:HST
DTSTART:20220101T000000
END:STANDARD
END:VTIMEZONE
BEGIN:VEVENT
DTSTART;TZID=Pacific/Honolulu:20231201T080000
DTEND;TZID=Pacific/Honolulu:20231201T123000
DTSTAMP:20260419T204205
CREATED:20231101T211023Z
LAST-MODIFIED:20231101T211030Z
UID:10000039-1701417600-1701433800@dlnr.hawaii.gov
SUMMARY:Malama Makai: Care for Everything Ocean
DESCRIPTION:An opportunity to learn about STEM science fields as opportunities to be pono leaders\, ‘aina stewards and guardians of kupuna knowledge
URL:https://dlnr.hawaii.gov/holomua/event/malama-makai-care-for-everything-ocean/
LOCATION:Hukilau Beach\, Kamehameha Hwy + Opp\, Naniloa Loop\, Laie\, Hawaii\, 96762\, United States
END:VEVENT
END:VCALENDAR